BEGIN:VCALENDAR
VERSION:2.0
PRODID:-//ChamberMaster//Event Calendar 2.0//EN
METHOD:PUBLISH
X-PUBLISHED-TTL:P3D
REFRESH-INTERVAL:P3D
CALSCALE:GREGORIAN
BEGIN:VEVENT
DTSTART:20171209T190000Z
DTEND:20171210T010000Z
X-MICROSOFT-CDO-ALLDAYEVENT:FALSE
SUMMARY:Victorian Christmas Open House
DESCRIPTION:The wonder of the Christmas holiday can be seen in the eyes of children who visit our Victorian Santa Claus\, get inspired by the melodic music of the bell choir\, and the warm\, inviting experience they have as they enter the mansion for a Victorian wonderland of decorations\, living history\, and clear toy candy demonstrations. Many families make this event a multigenerational trip to see the beautiful decorations\, visit Santa\, and have an enchanted experience.\n\nAll ages\; suggested donation $2 per person.
X-ALT-DESC;FMTTYPE=text/html:<p background:="" border-radius:="" border:="" color:="" font-size:="" letter-spacing:="" line-height:="" none="" style="box-sizing: border-box\; margin: 0px 0px 15px\; padding: 0px\; font-family: " text-rendering:="" texta="" w00="">The wonder of the Christmas holiday can be seen in the eyes of children who visit our Victorian Santa Claus\, get inspired by the melodic music of the bell choir\, and the warm\, inviting experience they have as they enter the mansion for a Victorian wonderland of decorations\, living history\, and clear toy candy demonstrations. Many families make this event a multigenerational trip to see the beautiful decorations\, visit Santa\, and have an enchanted experience.</p>\n\n<p background:="" border-radius:="" border:="" color:="" font-size:="" letter-spacing:="" line-height:="" none="" style="box-sizing: border-box\; margin: 0px 0px 15px\; padding: 0px\; font-family: " text-rendering:="" texta="" w00="">All ages\; suggested donation $2 per person.</p>\n
LOCATION:Pennypacker Mills 5 Haldeman Road Schwenksville\, PA 19473
UID:e.2183.848847
SEQUENCE:3
DTSTAMP:20260421T080207Z
URL:https://business.tricountyareachamber.com/events/details/victorian-christmas-open-house-848847
END:VEVENT

END:VCALENDAR
