BEGIN:VCALENDAR
VERSION:2.0
PRODID:-//ChamberMaster//Event Calendar 2.0//EN
METHOD:PUBLISH
X-PUBLISHED-TTL:P3D
REFRESH-INTERVAL:P3D
CALSCALE:GREGORIAN
BEGIN:VEVENT
DTSTART:20200924T170000Z
DTEND:20200924T183000Z
X-MICROSOFT-CDO-ALLDAYEVENT:FALSE
SUMMARY:Virtual Employer Apprenticeship Event
DESCRIPTION:Registered Apprenticeship is a tried-and-true approach for preparing workers for jobs   and meeting the business needs for a highly-skilled workforce that continues to innovate and adapt to meet the needs of the 21st century.\n \n\n\nExplore apprenticeship as a strategy to meet your company's needs for skilled workers.\n\n\n \n\n\n\n	John Tkach will describe the steps involved in bringing an appren-ticeship program from the meeting table to your production floor\, service organization or office.\n	John Bond\, who assisted in the development of First Quality's Industrial Manufacturing Technician and Industrial Maintenance Technician Apprenticeships\, will offer a business view of the process and benefits of a registered apprenticeship program.\n\n\n \n\n\nEmail KCandelo@montcopa.org to receive the ZOOM link.
X-ALT-DESC;FMTTYPE=text/html:Registered Apprenticeship is a tried-and-true approach for preparing workers for jobs &ndash\; and meeting the business needs for a highly-skilled workforce that continues to innovate and adapt to meet the needs of the 21st century.\n<div>&nbsp\;</div>\n\n<div>\n<div>Explore apprenticeship as a strategy to meet your company&rsquo\;s needs for skilled workers.</div>\n</div>\n\n<div>&nbsp\;</div>\n\n<div>\n<ul>\n	<li>John Tkach will describe the steps involved in bringing an appren-ticeship program from the meeting table to your production floor\, service organization or office.</li>\n	<li>John Bond\, who assisted in the development of First Quality&rsquo\;s Industrial Manufacturing Technician and Industrial Maintenance Technician Apprenticeships\, will offer a business view of the process and benefits of a registered apprenticeship program.</li>\n</ul>\n</div>\n&nbsp\;\n\n<div>\n<div>Email <a href="mailto:KCandelo@montcopa.org">KCandelo@montcopa.org</a> to receive the ZOOM link.</div>\n</div>\n
LOCATION:Zoom Webinar
UID:e.2183.856348
SEQUENCE:3
DTSTAMP:20260425T214454Z
URL:https://business.tricountyareachamber.com/events/details/virtual-employer-apprenticeship-event-856348
END:VEVENT

END:VCALENDAR
