BEGIN:VCALENDAR
VERSION:2.0
PRODID:-//ChamberMaster//Event Calendar 2.0//EN
METHOD:PUBLISH
X-PUBLISHED-TTL:P3D
REFRESH-INTERVAL:P3D
CALSCALE:GREGORIAN
BEGIN:VEVENT
DTSTART:20200625T203000Z
DTEND:20200625T213000Z
X-MICROSOFT-CDO-ALLDAYEVENT:FALSE
SUMMARY:Virtual Networking
DESCRIPTION:We cannot meet in person for a Business Card Exchange but we can meet over zoom and still strengthen the relationships in our Chamber Community!
X-ALT-DESC;FMTTYPE=text/html:<span style="font-size: 16px\;">We cannot meet in person for a Business Card Exchange but we can meet over zoom and still strengthen the relationships in our Chamber Community!</span>
LOCATION:Virtual Event Zoom participation instructions will be sent to those registered prior to the event.
UID:e.2183.856295
SEQUENCE:3
DTSTAMP:20260422T080458Z
URL:https://business.tricountyareachamber.com/events/details/virtual-networking-856295
END:VEVENT

END:VCALENDAR
