BEGIN:VCALENDAR
VERSION:2.0
PRODID:-//ChamberMaster//Event Calendar 2.0//EN
METHOD:PUBLISH
X-PUBLISHED-TTL:P3D
REFRESH-INTERVAL:P3D
CALSCALE:GREGORIAN
BEGIN:VEVENT
DTSTART:20200902T220000Z
DTEND:20200903T000000Z
X-MICROSOFT-CDO-ALLDAYEVENT:FALSE
SUMMARY:Virtual Recruitment Event for CNA's and NA's
DESCRIPTION:Training Opportunities\n	Multiple Shifts and Departments\n	Interview with Nurse Manager\n\nThinking of a new career as a CNA? Temporary Nurse Aide Training Certification Available Now - Limited time!\n\n\n\nSubmit your resume or letter of interest to jobopportunities@frederickliving.org.
X-ALT-DESC;FMTTYPE=text/html:<ul>\n	<li>Training Opportunities</li>\n	<li>Multiple Shifts and Departments</li>\n	<li>Interview with Nurse Manager</li>\n</ul>\nThinking of a new career as a CNA? Temporary Nurse Aide Training Certification Available Now - Limited time!<br />\n<br />\nSubmit your resume or letter of interest to <a href="mailto:jobopportunities@frederickliving.org">jobopportunities@frederickliving.org</a>.
LOCATION:Join Zoom Meeting: https://us02web.zoom.us/j/8184028829 Meeting ID: 8184028829 Dial In: 1-929-436-2866 No pre-registration required
UID:e.2183.856329
SEQUENCE:3
DTSTAMP:20260425T214719Z
URL:https://business.tricountyareachamber.com/events/details/virtual-recruitment-event-for-cna-s-and-na-s-856329
END:VEVENT

END:VCALENDAR
