BEGIN:VCALENDAR
VERSION:2.0
PRODID:-//ChamberMaster//Event Calendar 2.0//EN
METHOD:PUBLISH
X-PUBLISHED-TTL:P3D
REFRESH-INTERVAL:P3D
CALSCALE:GREGORIAN
BEGIN:VEVENT
DTSTART:20171209T140000Z
DTEND:20171209T170000Z
X-MICROSOFT-CDO-ALLDAYEVENT:FALSE
SUMMARY:Visit with Santa Claus
DESCRIPTION:HO-HO-HO It's Time For A Visit With Santa Claus! Members can take a free picture with Jolly Ol' St. Nick! Stop by our Pottstown Office on Dec. 9 from 9am-12pm.
X-ALT-DESC;FMTTYPE=text/html:<span style="color: rgb(29\, 33\, 41)\; font-family: Helvetica\, Arial\, sans-serif\; font-size: 14px\; background-color: rgb(255\, 255\, 255)\;">HO-HO-HO It&rsquo\;s Time For A Visit With Santa Claus! Members can take a free picture with Jolly Ol&rsquo\; St. Nick! Stop by our Pottstown Office on Dec. 9 from 9am-12pm.</span>
LOCATION:Tri County Area Federal Credit Union 1550 Medical Drive Pottstown\, PA 19464
UID:e.2183.849122
SEQUENCE:3
DTSTAMP:20260421T080208Z
URL:https://business.tricountyareachamber.com/events/details/visit-with-santa-claus-849122
END:VEVENT

END:VCALENDAR
