BEGIN:VCALENDAR
VERSION:2.0
PRODID:-//ChamberMaster//Event Calendar 2.0//EN
METHOD:PUBLISH
X-PUBLISHED-TTL:P3D
REFRESH-INTERVAL:P3D
CALSCALE:GREGORIAN
BEGIN:VEVENT
DTSTART:20221207T133000Z
DTEND:20221207T143000Z
X-MICROSOFT-CDO-ALLDAYEVENT:FALSE
SUMMARY:We'll Help Wednesday- Pop In & Ask
DESCRIPTION:We'll Help Wednesday is a day\, once a month\, that Chamber staff are accessible to answer questions or discuss your needs as a business in the tri-county region.  We're here to help\, offer advice\, or connect you with the resources to help you find the answers you need.
X-ALT-DESC;FMTTYPE=text/html:<h4><span style="font-size:14px\;">We&#39\;ll Help Wednesday is a day\, once a month\, that Chamber staff are accessible to answer questions or discuss your needs as a business in the tri-county region.&nbsp\; We&#39\;re here to help\, offer advice\, or connect you with the resources to help you find the answers you need.&nbsp\;</span></h4>\n
LOCATION:TriCounty Area Chamber of Commerce Conference Room on Floor 2
UID:e.2183.857889
SEQUENCE:3
DTSTAMP:20260420T080841Z
URL:https://business.tricountyareachamber.com/events/details/we-ll-help-wednesday-pop-in-ask-12-07-2022-857889
END:VEVENT

END:VCALENDAR
