BEGIN:VCALENDAR
VERSION:2.0
PRODID:-//ChamberMaster//Event Calendar 2.0//EN
METHOD:PUBLISH
X-PUBLISHED-TTL:P3D
REFRESH-INTERVAL:P3D
CALSCALE:GREGORIAN
BEGIN:VEVENT
DTSTART:20170506T180000Z
DTEND:20170506T220000Z
X-MICROSOFT-CDO-ALLDAYEVENT:FALSE
SUMMARY:We're Still Here
DESCRIPTION:First Annual We're Still Here Smith Family Plaza Festival\n\n\nJoin us for:\n\n	Delicious Local Eats\n	Local Live Music - Jordan White\; Hexwork\; Maddam Ink\; Another Day Dawns\; Red Hill Ramblers\n	Also featuring the Pottstown Arts Walk and Star Wars Rogue One screenings
X-ALT-DESC;FMTTYPE=text/html:<div style="text-align: center\;"><span style="font-size:20px\;"><em><strong>First Annual We&#39\;re Still Here Smith Family Plaza Festival</strong></em></span></div>\n<br />\nJoin us for:\n<ul>\n	<li>Delicious Local Eats</li>\n	<li>Local Live Music - <em>Jordan White\; Hexwork\; Maddam Ink\; Another Day Dawns\; Red Hill Ramblers</em></li>\n	<li>Also featuring the Pottstown Arts Walk and Star Wars Rogue One screenings</li>\n</ul>\n
LOCATION:Smith Family Plaza 100 E. High St. Pottstown\, PA 19464
UID:e.2183.847649
SEQUENCE:3
DTSTAMP:20260420T195145Z
URL:https://business.tricountyareachamber.com/events/details/we-re-still-here-847649
END:VEVENT

END:VCALENDAR
