BEGIN:VCALENDAR
VERSION:2.0
PRODID:-//ChamberMaster//Event Calendar 2.0//EN
METHOD:PUBLISH
X-PUBLISHED-TTL:P3D
REFRESH-INTERVAL:P3D
CALSCALE:GREGORIAN
BEGIN:VEVENT
DTSTART:20170804T123000Z
DTEND:20170804T140000Z
X-MICROSOFT-CDO-ALLDAYEVENT:FALSE
SUMMARY:Welcome Coffee
DESCRIPTION:A casual and informal opportunity for the Chamber membership to Welcome new faces in our community along with those who have accepted a new position in the region.\n\n\n\nHonored guests to date:\n\n	Bunny Boyle - TCACC\, Worksite Wellness Initiative Director\n	Scott Cusworth - Pottstown YMCA\, Executive Director\n	Dr. David DiMattio - Montgomery County Community College\, VP of West Campus\n	Valerie Jackson - PEAK\, Coordinator\n	Justin Keller - Borough of Pottstown\, Assistant Borough Manager\n	Michael Lane - Regional Recreation Coordinator\, Pottstown Metropolitan Regional Planning Committee\n	Peggy Lee-Clark - Pottstown Area Industrial Development\, Executive Director\n	Michael Lessar - Borough of Pottstown\, Fire Chief\n	Nancy March - Pottstown Works\, Program Director\n	Joe Rusiewicz - Foundation for Pottstown Education\, Executive Director\n	Elaine Schaefer - Schuylkill River National & State Heritage Area\, Executive Director\n	Dr. William Shirk - Pottsgrove School District\, Superintendent\n	Capt. Jeny Shurtleff - Salvation Army\, Pottstown\, Director\n	Frank Sturniolo - Exelon\, Plant Manager\n\n\n\nPlease register so we have an appropriate count for the number of people we can anticipate attending however you can stop at any time between 8:30 and 10 AM.  We will have the coffee and a light continental breakfast ready!
X-ALT-DESC;FMTTYPE=text/html:<span style="font-size:14px\;"><span style="font-family:arial\;">A casual and informal opportunity for the Chamber membership to <strong>Welcome</strong> new faces in our community along with those who have accepted a new position in the region.<br />\n<br />\nHonored guests to date:</span></span>\n<ul>\n	<li><span style="font-size:14px\;"><span style="font-family:arial\;">Bunny Boyle - TCACC\, Worksite Wellness Initiative Director</span></span></li>\n	<li><span style="font-size:14px\;"><span style="font-family:arial\;">Scott Cusworth - Pottstown&nbsp\;YMCA\, Executive Director</span></span></li>\n	<li><span style="font-size:14px\;"><span style="font-family:arial\;">Dr. David DiMattio - Montgomery County Community College\, VP of West Campus</span></span></li>\n	<li><span style="font-size:14px\;"><span style="font-family:arial\;">Valerie Jackson - PEAK\, Coordinator</span></span></li>\n	<li><span style="font-size:14px\;"><span style="font-family:arial\;">Justin Keller - Borough of Pottstown\, Assistant Borough Manager</span></span></li>\n	<li><span style="font-size:14px\;"><span style="font-family:arial\;">Michael Lane - Regional Recreation Coordinator\, Pottstown&nbsp\;Metropolitan Regional Planning Committee</span></span></li>\n	<li><span style="font-size:14px\;"><span style="font-family:arial\;">Peggy Lee-Clark -&nbsp\;Pottstown Area Industrial Development\, Executive Director</span></span></li>\n	<li><span style="font-size:14px\;"><span style="font-family:arial\;">Michael Lessar - Borough of Pottstown\, Fire Chief</span></span></li>\n	<li><span style="font-size:14px\;"><span style="font-family:arial\;">Nancy March - Pottstown Works\, Program Director</span></span></li>\n	<li><span style="font-size:14px\;"><span style="font-family:arial\;">Joe Rusiewicz - Foundation for Pottstown Education\, Executive Director</span></span></li>\n	<li><span style="font-size:14px\;"><span style="font-family:arial\;">Elaine Schaefer - Schuylkill River National &amp\; State Heritage Area\, Executive Director</span></span></li>\n	<li><font face="arial"><span style="font-size: 14px\;">Dr. William Shirk - Pottsgrove School District\, Superintendent</span></font></li>\n	<li><font face="arial"><span style="font-size: 14px\;">Capt. Jeny Shurtleff&nbsp\;- Salvation Army\, Pottstown\, Director</span></font></li>\n	<li><span style="font-size:14px\;"><span style="font-family:arial\;">Frank Sturniolo - Exelon\, Plant Manager</span></span></li>\n</ul>\n<br />\n<span style="font-size:14px\;"><span style="font-family:arial\;"><strong>Please register so we have an appropriate count for the number of people we can anticipate attending however you can stop at any time between 8:30 and 10 AM.&nbsp\; We will have the coffee and a light continental breakfast ready!</strong></span></span>
LOCATION:Chamber Office 152 E. High St.\, Suite 360 Pottstown\, PA 19464
UID:e.2183.847711
SEQUENCE:3
DTSTAMP:20260421T011108Z
URL:https://business.tricountyareachamber.com/events/details/welcome-coffee-847711
END:VEVENT

END:VCALENDAR
