BEGIN:VCALENDAR
VERSION:2.0
PRODID:-//ChamberMaster//Event Calendar 2.0//EN
METHOD:PUBLISH
X-PUBLISHED-TTL:P3D
REFRESH-INTERVAL:P3D
CALSCALE:GREGORIAN
BEGIN:VEVENT
DTSTART:20170115T003000Z
DTEND:20170115T030000Z
X-MICROSOFT-CDO-ALLDAYEVENT:FALSE
SUMMARY:Welcome Home Concert
DESCRIPTION:Student Pottstown CARES leaders from The Hill School\, Pottstown School District\, and Montgomery County Community College have organized a family-friendly hip hop and pop music concert that will provide financial assistance to Your Way Home of Montgomery County\, an organization that establishes emergency shelter and long-term stability for the homeless.\n\n\n\nThis inspirational student-driven event will feature two regional professional bands\, The Rather Be Band and the Pottstown Music Collaborative\, as well as The Gentlemen\, Pottstown High School's jazz ensemble\, and the Hilltones and Hilltrebles\, the Hill School's select a cappella vocal groups.  \n\n\n\n100% of ticket sales & 50% of concession sales will benefit Your Way Home.
X-ALT-DESC;FMTTYPE=text/html:<span style="font-family:times new roman\,serif\;"><span style="font-size:12.0pt\;">Student Pottstown CARES leaders from The Hill School\, Pottstown School District\, and Montgomery County Community College have organized a <strong>family-friendly hip hop and pop music concert </strong>that will provide financial assistance to Your Way Home of Montgomery County\, an organization that establishes emergency shelter and long-term stability for the homeless.</span></span><br />\n<br />\n<span style="font-family:times new roman\,serif\;"><span style="font-size:12.0pt\;">This inspirational student-driven event will feature two regional professional bands\, </span></span><a href="https://www.facebook.com/TheRatherBeBand/"><span style="font-family:times new roman\,serif\;"><span style="font-size:12.0pt\;">The Rather Be Band</span></span></a><span style="font-family:times new roman\,serif\;"><span style="font-size:12.0pt\;"> and the Pottstown Music Collaborative\, as well as The Gentlemen\, Pottstown High School&rsquo\;s jazz ensemble\, and the Hilltones and Hilltrebles\, the Hill School&rsquo\;s select <em>a cappella </em>vocal groups.&nbsp\;&nbsp\;</span></span><br />\n<br />\n<em><strong>100% of ticket sales &amp\; 50% of concession sales will benefit Your Way Home.</strong></em>
LOCATION:The Hill School Center for the Arts 780 Beech Street Pottstown\, PA 19464
UID:e.2183.847407
SEQUENCE:3
DTSTAMP:20260420T132341Z
URL:https://business.tricountyareachamber.com/events/details/welcome-home-concert-847407
END:VEVENT

END:VCALENDAR
