BEGIN:VCALENDAR
VERSION:2.0
PRODID:-//ChamberMaster//Event Calendar 2.0//EN
METHOD:PUBLISH
X-PUBLISHED-TTL:P3D
REFRESH-INTERVAL:P3D
CALSCALE:GREGORIAN
BEGIN:VEVENT
DTSTART:20181204T163000Z
DTEND:20181204T180000Z
X-MICROSOFT-CDO-ALLDAYEVENT:FALSE
SUMMARY:Wellbeing Wrap Up Luncheon
DESCRIPTION:This event is invite only.\n\n\n\nCome join the Bunny and the wellness group to share challenges and celebrate your successes!
X-ALT-DESC;FMTTYPE=text/html:This event is invite only.<br />\n<br />\nCome join the Bunny and the wellness group to share challenges and celebrate your successes!
LOCATION:TriCounty Area Chamber of Commerce Conference Roomm 152 E. High St. Suite 360\, Pottstown PA 19464
UID:e.2183.851789
SEQUENCE:3
DTSTAMP:20260423T115117Z
URL:https://business.tricountyareachamber.com/events/details/wellbeing-wrap-up-luncheon-851789
END:VEVENT

END:VCALENDAR
