BEGIN:VCALENDAR
VERSION:2.0
PRODID:-//ChamberMaster//Event Calendar 2.0//EN
METHOD:PUBLISH
X-PUBLISHED-TTL:P3D
REFRESH-INTERVAL:P3D
CALSCALE:GREGORIAN
BEGIN:VEVENT
DTSTART:20170605T200000Z
DTEND:20170605T230000Z
X-MICROSOFT-CDO-ALLDAYEVENT:FALSE
SUMMARY:West-Mont Art Studio Evening
DESCRIPTION:Enjoy a time of relaxation and fun as you complete a step by step painting titled Shore Time. Select from one of two sessions on Monday\, June 5. The cost is $20 per person\, and half of all proceeds go the WCA Missions Team trip to Guatemala coming up quickly on June 17-24. Follow this link to register for 4:00   5:00 PM\, and follow this link to register for 6:00   7:00 PM. This Art Studio Night is a great opportunity to get together with friends\, family\, and students\, or just explore a hidden talent as you give needed support to the Mission Team.
X-ALT-DESC;FMTTYPE=text/html:<span style="font-family:times new roman\,serif"><span style="font-size:12.0pt">Enjoy a time of relaxation and fun as you complete a step by step painting titled <em>Shore Time</em>. Select from one of two sessions on Monday\, June 5. The cost is $20 per person\, and half of all proceeds go the WCA Missions Team trip to Guatemala coming up quickly on June 17-24. <a href="https://www.eventbrite.com/e/give-back-art-pottstown-pa-tickets-34587747885"><span style="color:blue">Follow this link</span></a> to register for 4:00 &ndash\; 5:00 PM\, and <a href="https://www.eventbrite.com/e/give-back-art-pottstown-pa-tickets-34587823110"><span style="color:blue">follow this link</span></a> to register for 6:00 &ndash\; 7:00 PM. This Art Studio Night is a great opportunity to get together with friends\, family\, and students\, or just explore a hidden talent as you give needed support to the Mission Team.&nbsp\;</span></span><br />\n&nbsp\;
LOCATION:873 South Hanover Street\, Pottstown\, PA 19464
UID:e.2183.847692
SEQUENCE:3
DTSTAMP:20260420T213325Z
URL:https://business.tricountyareachamber.com/events/details/west-mont-art-studio-evening-847692
END:VEVENT

END:VCALENDAR
