BEGIN:VCALENDAR
VERSION:2.0
PRODID:-//ChamberMaster//Event Calendar 2.0//EN
METHOD:PUBLISH
X-PUBLISHED-TTL:P3D
REFRESH-INTERVAL:P3D
CALSCALE:GREGORIAN
BEGIN:VEVENT
DTSTART:20170429T141500Z
DTEND:20170429T160000Z
X-MICROSOFT-CDO-ALLDAYEVENT:FALSE
SUMMARY:West-Mont Color Run
DESCRIPTION:Our National Honor Society has coordinated a Color Run on April 29 at 10:15 AM to benefit Jehovah Jireh Ministries! There is an additional Kids' Run scheduled at 11:30 AM. Registration cost is $25 per person\, and is due by April 12. Follow this link for more information\, and follow this link to register.
X-ALT-DESC;FMTTYPE=text/html:Our National Honor Society has coordinated a Color Run on April 29 at 10:15 AM to benefit Jehovah Jireh Ministries! There is an additional Kids&rsquo\; Run scheduled at 11:30 AM. Registration cost is $25 per person\, and is due by April 12. <u><a href="http://media.wix.com/ugd/80f247_f4e49c73690645aebfc029b5e6b46b9e.pdf" target="_blank">Follow this link</a></u> for more information\, and <u><a href="http://www.west-mont.org/colorrun" target="_self">follow this link</a></u> to register.
LOCATION:873 South Hanover Street Pottstown\, PA 19465
UID:e.2183.847623
SEQUENCE:3
DTSTAMP:20260420T181956Z
URL:https://business.tricountyareachamber.com/events/details/west-mont-color-run-847623
END:VEVENT

END:VCALENDAR
