BEGIN:VCALENDAR
VERSION:2.0
PRODID:-//ChamberMaster//Event Calendar 2.0//EN
METHOD:PUBLISH
X-PUBLISHED-TTL:P3D
REFRESH-INTERVAL:P3D
CALSCALE:GREGORIAN
BEGIN:VEVENT
DTSTART:20170321T230000Z
DTEND:20170322T000000Z
X-MICROSOFT-CDO-ALLDAYEVENT:FALSE
SUMMARY:West-Mont Evening Open House
DESCRIPTION:This is a time for prospective families to meet our staff\, tour our school\, and receive admissions information.
X-ALT-DESC;FMTTYPE=text/html:This is a time for prospective families to meet our staff\, tour our school\, and receive admissions information.
LOCATION:873 South Hanover Street\, Pottstown\, PA 19465
UID:e.2183.847560
SEQUENCE:3
DTSTAMP:20260420T181412Z
URL:https://business.tricountyareachamber.com/events/details/west-mont-evening-open-house-03-21-2017-847560
END:VEVENT

END:VCALENDAR
