BEGIN:VCALENDAR
VERSION:2.0
PRODID:-//ChamberMaster//Event Calendar 2.0//EN
METHOD:PUBLISH
X-PUBLISHED-TTL:P3D
REFRESH-INTERVAL:P3D
CALSCALE:GREGORIAN
BEGIN:VEVENT
DTSTART:20180322T230000Z
DTEND:20180323T000000Z
X-MICROSOFT-CDO-ALLDAYEVENT:FALSE
SUMMARY:West-Mont Evening Open House
DESCRIPTION:Prospective families are invited to tour our campus\, meet our staff\, and speak with one of our administrators to determine if West-Mont would be a good fit for your family.
X-ALT-DESC;FMTTYPE=text/html:Prospective families are invited to tour our campus\, meet our staff\, and speak with one of our administrators to determine if West-Mont would be a good fit for your family.
LOCATION:873 South Hanover Street Pottstown\, PA 19465
UID:e.2183.849150
SEQUENCE:3
DTSTAMP:20260421T123922Z
URL:https://business.tricountyareachamber.com/events/details/west-mont-evening-open-house-03-22-2018-849150
END:VEVENT

END:VCALENDAR
