BEGIN:VCALENDAR
VERSION:2.0
PRODID:-//ChamberMaster//Event Calendar 2.0//EN
METHOD:PUBLISH
X-PUBLISHED-TTL:P3D
REFRESH-INTERVAL:P3D
CALSCALE:GREGORIAN
BEGIN:VEVENT
DTSTART:20170603T130000Z
DTEND:20170603T170000Z
X-MICROSOFT-CDO-ALLDAYEVENT:FALSE
SUMMARY:West-Mont Fresa Strawberry Festival
DESCRIPTION:Support the WCA Mission Team at this fun event! There will be strawberry pies and other strawberry desserts available for purchase\, a yard sale\, and games for elementary aged students. Follow this link for more information\, and contact a mission team member or valerie.fox@west-mont.org to reserve a yard sale spot for $10.
X-ALT-DESC;FMTTYPE=text/html:<span style="font-family:times new roman\,serif"><span style="font-size:12.0pt">Support the WCA Mission Team at this fun event! There will be strawberry pies and other strawberry desserts available for purchase\, a yard sale\, and games for elementary aged students. <u><a href="http://media.wix.com/ugd/80f247_b19b8cc63353482d95f470006cfe85b1.pdf" target="_blank"><span style="color:blue">Follow this link</span></a></u> for more information\, and contact a mission team member or <u><a href="mailto:valerie.fox@west-mont.org" target="_self"><span style="color:blue">valerie.fox@west-mont.org</span></a></u> to reserve a yard sale spot for $10.</span></span>
LOCATION:873 South Hanover Street\, Pottstown\, PA 19465
UID:e.2183.847691
SEQUENCE:3
DTSTAMP:20260420T233747Z
URL:https://business.tricountyareachamber.com/events/details/west-mont-fresa-strawberry-festival-847691
END:VEVENT

END:VCALENDAR
