BEGIN:VCALENDAR
VERSION:2.0
PRODID:-//ChamberMaster//Event Calendar 2.0//EN
METHOD:PUBLISH
X-PUBLISHED-TTL:P3D
REFRESH-INTERVAL:P3D
CALSCALE:GREGORIAN
BEGIN:VEVENT
DTSTART:20170530T200000Z
DTEND:20170531T010000Z
X-MICROSOFT-CDO-ALLDAYEVENT:FALSE
SUMMARY:West-Mont Infinitos Night
DESCRIPTION:Come out for an evening of fun and fellowship to support the WCA Mission Team. This is an all you can eat buffet for $6.99 per person\, located at 222 Schuylkill Road\, Phoenixville\, PA 19460. Please share on Facebook to help us spread the word. No flyers are needed\; just reference WCA when ordering.
X-ALT-DESC;FMTTYPE=text/html:<span style="font-family:times new roman\,serif"><span style="font-size:12.0pt">Come out for an evening of fun and fellowship to support the WCA Mission Team. This is an all you can eat buffet for $6.99 per person\, located at 222 Schuylkill Road\, Phoenixville\, PA 19460. Please share on Facebook to help us spread the word. No flyers are needed\; just reference WCA when ordering.</span></span><br />\n&nbsp\;
LOCATION:222 Schuylkill Road\, Phoenixville\, PA 19460
UID:e.2183.847690
SEQUENCE:3
DTSTAMP:20260420T195329Z
URL:https://business.tricountyareachamber.com/events/details/west-mont-infinitos-night-847690
END:VEVENT

END:VCALENDAR
