BEGIN:VCALENDAR
VERSION:2.0
PRODID:-//ChamberMaster//Event Calendar 2.0//EN
METHOD:PUBLISH
X-PUBLISHED-TTL:P3D
REFRESH-INTERVAL:P3D
CALSCALE:GREGORIAN
BEGIN:VEVENT
DTSTART:20170315T130000Z
DTEND:20170315T150000Z
X-MICROSOFT-CDO-ALLDAYEVENT:FALSE
SUMMARY:West-Mont Kindergarten Sneak Peek
DESCRIPTION:This is a time for prospective parents and kindergartners to meet our staff\, tour our school\, and receive admissions information.
X-ALT-DESC;FMTTYPE=text/html:This is a time for prospective parents and kindergartners to meet our staff\, tour our school\, and receive admissions information.
LOCATION:873 South Hanover Street\, Pottstown\, PA 19465
UID:e.2183.847559
SEQUENCE:3
DTSTAMP:20260420T164212Z
URL:https://business.tricountyareachamber.com/events/details/west-mont-kindergarten-sneak-peek-847559
END:VEVENT

END:VCALENDAR
