BEGIN:VCALENDAR
VERSION:2.0
PRODID:-//ChamberMaster//Event Calendar 2.0//EN
METHOD:PUBLISH
X-PUBLISHED-TTL:P3D
REFRESH-INTERVAL:P3D
CALSCALE:GREGORIAN
BEGIN:VEVENT
DTSTART:20170513T110000Z
DTEND:20170514T010000Z
X-MICROSOFT-CDO-ALLDAYEVENT:FALSE
SUMMARY:West-Mont's Production of Alice in Wonderland
DESCRIPTION:??Please join us for our Middle and High School Play Production of Alice in Wonderland on May 12 & 13 at 7:00 PM.
X-ALT-DESC;FMTTYPE=text/html:<em>?</em>?Please join us for our Middle and High School Play Production of <em>Alice in Wonderland</em> on May 12 &amp\; 13 at 7:00 PM.
LOCATION:873 South Hanover Street Pottstown\, PA 19465
UID:e.2183.847625
SEQUENCE:3
DTSTAMP:20260420T213807Z
URL:https://business.tricountyareachamber.com/events/details/west-mont-s-production-of-alice-in-wonderland-05-13-2017-847625
END:VEVENT

END:VCALENDAR
