BEGIN:VCALENDAR
VERSION:2.0
PRODID:-//ChamberMaster//Event Calendar 2.0//EN
METHOD:PUBLISH
X-PUBLISHED-TTL:P3D
REFRESH-INTERVAL:P3D
CALSCALE:GREGORIAN
BEGIN:VEVENT
DTSTART:20180221T140000Z
DTEND:20180221T160000Z
X-MICROSOFT-CDO-ALLDAYEVENT:FALSE
SUMMARY:West-Mont Welcome Wednesday
DESCRIPTION:Prospective parents are invited to tour our campus\, meet our staff\, and speak with one of our administrators to determine if West-Mont would be a good fit for your family.
X-ALT-DESC;FMTTYPE=text/html:Prospective parents are invited to tour our campus\, meet our staff\, and speak with one of our administrators to determine if West-Mont would be a good fit for your family.
LOCATION:873 South Hanover Street Pottstown\, PA 19465
UID:e.2183.849149
SEQUENCE:3
DTSTAMP:20260421T110529Z
URL:https://business.tricountyareachamber.com/events/details/west-mont-welcome-wednesday-02-21-2018-849149
END:VEVENT

END:VCALENDAR
