BEGIN:VCALENDAR
VERSION:2.0
PRODID:-//ChamberMaster//Event Calendar 2.0//EN
METHOD:PUBLISH
X-PUBLISHED-TTL:P3D
REFRESH-INTERVAL:P3D
CALSCALE:GREGORIAN
BEGIN:VEVENT
DTSTART:20170524T130000Z
DTEND:20170524T150000Z
X-MICROSOFT-CDO-ALLDAYEVENT:FALSE
SUMMARY:West-Mont Welcome Wednesday
DESCRIPTION:This is an informal time for prospective parents to tour our campus\, meet our staff\, and speak with one of our administrators to determine if West-Mont Christian Academy would be a good fit for your family
X-ALT-DESC;FMTTYPE=text/html:<span style="color:#212121"><span style="font-family:cambria\,serif"><span style="font-size:12.0pt">This is an informal time for prospective parents to tour our campus\, meet our staff\, and speak with one of our administrators to determine if West-Mont Christian Academy would be a good fit&nbsp\;for your family</span></span></span>
LOCATION:873 South Hanover Street Pottstown\, PA 19465
UID:e.2183.847622
SEQUENCE:3
DTSTAMP:20260420T200155Z
URL:https://business.tricountyareachamber.com/events/details/west-mont-welcome-wednesday-05-24-2017-847622
END:VEVENT

END:VCALENDAR
