BEGIN:VCALENDAR
VERSION:2.0
PRODID:-//ChamberMaster//Event Calendar 2.0//EN
METHOD:PUBLISH
X-PUBLISHED-TTL:P3D
REFRESH-INTERVAL:P3D
CALSCALE:GREGORIAN
BEGIN:VEVENT
DTSTART:20220629T173000Z
DTEND:20220629T183000Z
X-MICROSOFT-CDO-ALLDAYEVENT:FALSE
SUMMARY:What’s throwing you off? Part 3
DESCRIPTION:Keystone Villa at Douglassville welcomes the public to the final installment of its free\, three-part series\, "What is Throwing You Off?" Join us outside on our Independent Living patio at 1180 Ben Franklin Highway E. on Wednesday\, June 29\, at 1:30 p.m. Are you ready for the heat? In part 3 of "Happy\, Hydrated and Summer Heat Healthy\," our guest speaker Jennifer Basile from FOX Rehabilitation\, will discuss summer safety tips and how you can keep adequately hydrated\, especially during exceptionally warm days. RSVP by June 27\; please call 484-925-1074.
X-ALT-DESC;FMTTYPE=text/html:Keystone Villa at Douglassville welcomes the public to the final installment of its free\, three-part series\, &ldquo\;What is Throwing You Off?&rdquo\; Join us outside on our Independent Living patio at 1180 Ben Franklin Highway E. on Wednesday\, June 29\, at 1:30 p.m. Are you ready for the heat? In part 3 of &ldquo\;Happy\, Hydrated and Summer Heat Healthy\,&rdquo\; our guest speaker Jennifer Basile from FOX Rehabilitation\, will discuss summer safety tips and how you can keep adequately hydrated\, especially during exceptionally warm days. RSVP by June 27\; please call 484-925-1074.
LOCATION:Keystone Villa at Douglassville\, Independent Living 1180 Ben Franklin Highway E. Douglassville\, PA
UID:e.2183.857737
SEQUENCE:3
DTSTAMP:20260425T155012Z
URL:https://business.tricountyareachamber.com/events/details/what-s-throwing-you-off-part-3-857737
END:VEVENT

END:VCALENDAR
