BEGIN:VCALENDAR
VERSION:2.0
PRODID:-//ChamberMaster//Event Calendar 2.0//EN
METHOD:PUBLISH
X-PUBLISHED-TTL:P3D
REFRESH-INTERVAL:P3D
CALSCALE:GREGORIAN
BEGIN:VEVENT
DTSTART:20220427T223000Z
DTEND:20220427T233000Z
X-MICROSOFT-CDO-ALLDAYEVENT:FALSE
SUMMARY:What’s throwing you off: Part one series on hearing loss
DESCRIPTION:Keystone Villa at Douglassville welcomes the public to its free\, three-part series\, "What is Throwing You Off?" Join us in person at 1180 Ben Franklin Highway E. on Wednesday\, April 27\, at 6:30 p.m. In our first presentation\, Caren and Tyler Yucha\, both hearing instrument specialists\, discuss hearing loss\, a common problem for older adults. Learn how to identify the signs of hearing loss and see how hearing aids have changed thanks to advances in technology. RSVP by April 25\; please call Sue Okuniewski at 610-385-5002.
X-ALT-DESC;FMTTYPE=text/html:Keystone Villa at Douglassville welcomes the public to its free\, three-part series\, &ldquo\;What is Throwing You Off?&rdquo\; Join us in person at 1180 Ben Franklin Highway E. on Wednesday\, April 27\, at 6:30 p.m. In our first presentation\, Caren and Tyler Yucha\, both hearing instrument specialists\, discuss hearing loss\, a common problem for older adults. Learn how to identify the signs of hearing loss and see how hearing aids have changed thanks to advances in technology. RSVP by April 25\; please call Sue Okuniewski at 610-385-5002.
LOCATION:Keystone Villa at Douglassville 1180 Ben Franklin Highway E. Douglassville\, PA
UID:e.2183.857670
SEQUENCE:3
DTSTAMP:20260424T185801Z
URL:https://business.tricountyareachamber.com/events/details/what-s-throwing-you-off-part-one-series-on-hearing-loss-857670
END:VEVENT

END:VCALENDAR
