BEGIN:VCALENDAR
VERSION:2.0
PRODID:-//ChamberMaster//Event Calendar 2.0//EN
METHOD:PUBLISH
X-PUBLISHED-TTL:P3D
REFRESH-INTERVAL:P3D
CALSCALE:GREGORIAN
BEGIN:VEVENT
DTSTART:20170817T133000Z
DTEND:20170817T150000Z
X-MICROSOFT-CDO-ALLDAYEVENT:FALSE
SUMMARY:Why & How to Work with a Graphic Designer
DESCRIPTION:As a small business owner you probably want to bootstrap your operations\, but sometimes you need to call in the experts to help you succeed. When should you put down Photoshop and call in a visual designer? How can a professional visual brand help your business grow and succeed? Why spend resources on a custom visual brand? How do you find the right designer and establish a successful working relationship with them?\n\n \n\nWorkshop participants will be able to:\n\n  Find the right designer match through practical examples\n\n  Effectively work and engage with a graphic designer\n\n  Understand the importance of good visual design and branding\n\n \n\nCome ready with questions so we can talk about your business and how visual design can help it grow!\n\n \n\nSchedule:\n\n9:30-10:00  Come early for an informal time of meeting\, greeting + coffee!\n\n10:00-11:00  Worshop with Q&A
X-ALT-DESC;FMTTYPE=text/html:<p class="p1" style="margin: 0px\; padding: 0px\; line-height: normal\; text-align: justify\; font-stretch: normal\; font-size: 16px\; font-family: Helvetica\; color: rgb(69\, 73\, 78)\; letter-spacing: 0.5px\;">As a small business owner you probably want to bootstrap your operations\, but sometimes you need to call in the experts to help you succeed. When should you put down Photoshop and call in a visual designer? How can a professional visual brand help your business grow and succeed?&nbsp\;Why spend resources on&nbsp\;a custom visual brand? How do you find the right designer and establish a&nbsp\;successful working relationship with them?</p>\n\n<p class="p1" style="margin: 0px\; padding: 0px\; line-height: normal\; text-align: justify\; font-stretch: normal\; font-size: 16px\; font-family: Helvetica\; color: rgb(69\, 73\, 78)\; letter-spacing: 0.5px\;"><span class="s1" style="font-kerning: none\; color: rgb(0\, 0\, 0)\;">&nbsp\;</span></p>\n\n<p class="p1" style="margin: 0px\; padding: 0px\; line-height: normal\; text-align: justify\; font-stretch: normal\; font-size: 16px\; font-family: Helvetica\; color: rgb(69\, 73\, 78)\; letter-spacing: 0.5px\;"><span class="s1" style="font-kerning: none\; color: rgb(255\, 102\, 0)\;"><span style="font-weight: 700\;">Workshop participants will be able to:</span></span><br />\n<span class="s2" style="font-kerning: none\; color: rgb(248\, 142\, 41)\;">&bull\;&nbsp\;</span><span class="s1" style="font-kerning: none\; color: rgb(0\, 0\, 0)\;">Find the right designer match through practical examples</span></p>\n\n<p class="p1" style="margin: 0px\; padding: 0px\; line-height: normal\; text-align: justify\; font-stretch: normal\; font-size: 16px\; font-family: Helvetica\; color: rgb(69\, 73\, 78)\; letter-spacing: 0.5px\;"><span class="s2" style="font-kerning: none\; color: rgb(248\, 142\, 41)\;">&bull\;&nbsp\;</span><span class="s1" style="font-kerning: none\; color: rgb(0\, 0\, 0)\;">Effectively work and engage with a graphic designer</span></p>\n\n<p class="p1" style="margin: 0px\; padding: 0px\; line-height: normal\; text-align: justify\; font-stretch: normal\; font-size: 16px\; font-family: Helvetica\; color: rgb(69\, 73\, 78)\; letter-spacing: 0.5px\;"><span class="s2" style="font-kerning: none\; color: rgb(248\, 142\, 41)\;">&bull\;&nbsp\;</span><span class="s1" style="font-kerning: none\; color: rgb(0\, 0\, 0)\;">Understand the importance of good visual design and branding</span></p>\n\n<p class="p1" style="margin: 0px\; padding: 0px\; line-height: normal\; text-align: justify\; font-stretch: normal\; font-size: 16px\; font-family: Helvetica\; color: rgb(69\, 73\, 78)\; letter-spacing: 0.5px\;">&nbsp\;</p>\n\n<p class="p1" style="margin: 0px\; padding: 0px\; line-height: normal\; text-align: justify\; font-stretch: normal\; font-size: 16px\; font-family: Helvetica\; color: rgb(69\, 73\, 78)\; letter-spacing: 0.5px\;"><span class="s1" style="font-kerning: none\; color: rgb(0\, 0\, 0)\;">Come ready with questions so we can talk about your business and how visual design can help it grow!</span></p>\n\n<p class="p1" style="margin: 0px\; padding: 0px\; line-height: normal\; text-align: justify\; font-stretch: normal\; font-size: 16px\; font-family: Helvetica\; color: rgb(69\, 73\, 78)\; letter-spacing: 0.5px\;">&nbsp\;</p>\n\n<p class="p1" style="margin: 0px\; padding: 0px\; line-height: normal\; text-align: justify\; font-stretch: normal\; font-size: 16px\; font-family: Helvetica\; color: rgb(69\, 73\, 78)\; letter-spacing: 0.5px\;"><span style="font-weight: 700\;"><span class="s1" style="font-kerning: none\; color: rgb(255\, 102\, 0)\;">Schedule:</span></span></p>\n\n<p class="p1" style="margin: 0px\; padding: 0px\; line-height: normal\; text-align: justify\; font-stretch: normal\; font-size: 16px\; font-family: Helvetica\; color: rgb(69\, 73\, 78)\; letter-spacing: 0.5px\;"><span style="font-weight: 700\;"><span class="s1" style="font-kerning: none\; color: rgb(0\, 0\, 0)\;">9:30-10:00</span></span><span class="s2" style="font-kerning: none\; color: rgb(248\, 142\, 41)\;">&nbsp\;&nbsp\;<span style="color: rgb(0\, 0\, 0)\;">Come early for an informal time of meeting\, greeting + coffee!</span></span></p>\n\n<p class="p1" style="margin: 0px\; padding: 0px\; line-height: normal\; text-align: justify\; font-stretch: normal\; font-size: 16px\; font-family: Helvetica\; color: rgb(69\, 73\, 78)\; letter-spacing: 0.5px\;"><span class="s2" style="font-kerning: none\; color: rgb(248\, 142\, 41)\;"><span style="color: rgb(0\, 0\, 0)\;"><span style="font-weight: 700\;">10:00-11:00</span>&nbsp\;&nbsp\;Worshop with Q&amp\;A</span></span></p>\n
LOCATION:Productivity Pointe 152 E. High St.\, Suite 440 Pottstown\, PA 19464
UID:e.2183.848749
SEQUENCE:3
DTSTAMP:20260421T012812Z
URL:https://business.tricountyareachamber.com/events/details/why-how-to-work-with-a-graphic-designer-848749
END:VEVENT

END:VCALENDAR
