BEGIN:VCALENDAR
VERSION:2.0
PRODID:-//ChamberMaster//Event Calendar 2.0//EN
METHOD:PUBLISH
X-PUBLISHED-TTL:P3D
REFRESH-INTERVAL:P3D
CALSCALE:GREGORIAN
BEGIN:VEVENT
DTSTART:20170328T000000Z
DTEND:20170328T000000Z
X-MICROSOFT-CDO-ALLDAYEVENT:FALSE
SUMMARY:Why Voting Maps Matter - Join us April 3rd
DESCRIPTION:Why Voting Maps Matter - Montgomery County\n\nJoin us on Monday\, April 3rd\, 7:00 pm\n\n\n\nSee Campus Map at www.ursinus.edu On Facebook (https://www.facebook.com/search/top/?q=fairdistrictspa) Learn about Gerrymandering and How it Affects Our Elections
X-ALT-DESC;FMTTYPE=text/html:Why Voting Maps Matter - Montgomery County<br />\nJoin us on Monday\, April 3rd\, 7:00 pm<br />\n<br />\nSee Campus Map at www.ursinus.edu On Facebook (https://www.facebook.com/search/top/?q=fairdistrictspa) Learn about Gerrymandering and How it Affects Our Elections
LOCATION:Ursinus College - Olin Hall 601 E. Main Street Collegeville\, PA See Campus Map at www.ursinus.edu
UID:e.2183.847593
SEQUENCE:3
DTSTAMP:20260420T164057Z
URL:https://business.tricountyareachamber.com/events/details/why-voting-maps-matter-03-27-2017-847593
END:VEVENT

END:VCALENDAR
