BEGIN:VCALENDAR
VERSION:2.0
PRODID:-//ChamberMaster//Event Calendar 2.0//EN
METHOD:PUBLISH
X-PUBLISHED-TTL:P3D
REFRESH-INTERVAL:P3D
CALSCALE:GREGORIAN
BEGIN:VEVENT
DTSTART:20180505T130000Z
DTEND:20180505T190000Z
X-MICROSOFT-CDO-ALLDAYEVENT:FALSE
SUMMARY:WMCTC Car Show
DESCRIPTION:All vehicles welcome - Cars\, Trucks\, Bikes\, and 4x4s!\n\n	Food and refreshments sold by students\n	Demonstration by the Transportation Cluster\n	Various automotive vendors in attendance\n	Spring plant sale\n	Music provided by DJ Mixology\n	WMCTC Summer Camp pre-registration\n	50/50 tickets sold to benefit the Stephen Bruno Memorial Fund
X-ALT-DESC;FMTTYPE=text/html:All vehicles welcome - Cars\, Trucks\, Bikes\, and 4x4s!\n<ul>\n	<li>Food and refreshments sold by students</li>\n	<li>Demonstration by the Transportation Cluster</li>\n	<li>Various automotive vendors in attendance</li>\n	<li>Spring plant sale</li>\n	<li>Music provided by DJ Mixology</li>\n	<li>WMCTC Summer Camp pre-registration</li>\n	<li>50/50 tickets sold to benefit the Stephen Bruno Memorial Fund</li>\n</ul>\n
LOCATION:Western Montgomery Career & Technology Center 77 Graterford Rd. Limerick\, PA 19468
UID:e.2183.849187
SEQUENCE:3
DTSTAMP:20260424T013017Z
URL:https://business.tricountyareachamber.com/events/details/wmctc-car-show-849187
END:VEVENT

END:VCALENDAR
