BEGIN:VCALENDAR
VERSION:2.0
PRODID:-//ChamberMaster//Event Calendar 2.0//EN
METHOD:PUBLISH
X-PUBLISHED-TTL:P3D
REFRESH-INTERVAL:P3D
CALSCALE:GREGORIAN
BEGIN:VEVENT
DTSTART:20180509T180000Z
DTEND:20180509T230000Z
X-MICROSOFT-CDO-ALLDAYEVENT:FALSE
SUMMARY:WMCTC Chicken Dinner
DESCRIPTION:Pre-Ordered Tickets Preferred!\n$10 for each chicken dinner\, includes:\n\n\n	1/2 Chicken\n	Baked Potato\n	Applesauce\n	Roll & Butter\n\nBenefits HOSA Future Health Professionals student organization
X-ALT-DESC;FMTTYPE=text/html:<div style="text-align: center\;"><em><strong>Pre-Ordered Tickets Preferred!</strong></em></div>\n$10 for each chicken dinner\, includes:\n\n<ul>\n	<li>1/2 Chicken</li>\n	<li>Baked Potato</li>\n	<li>Applesauce</li>\n	<li>Roll &amp\; Butter</li>\n</ul>\nBenefits HOSA&nbsp\;Future Health Professionals student organization&nbsp\;
LOCATION:Pick up at Limerick Community Park 12 Swamp Pike Limerick\, PA 19468
UID:e.2183.849189
SEQUENCE:3
DTSTAMP:20260424T012446Z
URL:https://business.tricountyareachamber.com/events/details/wmctc-chicken-dinner-849189
END:VEVENT

END:VCALENDAR
