BEGIN:VCALENDAR
VERSION:2.0
PRODID:-//ChamberMaster//Event Calendar 2.0//EN
METHOD:PUBLISH
X-PUBLISHED-TTL:P3D
REFRESH-INTERVAL:P3D
CALSCALE:GREGORIAN
BEGIN:VEVENT
DTSTART:20171115T230000Z
DTEND:20171116T013000Z
X-MICROSOFT-CDO-ALLDAYEVENT:FALSE
SUMMARY:WMCTC Girls Night Out
DESCRIPTION:Join us for this event\, just for girls! Learn about the exciting non-traditional career training opportunities for girls grades 5-11 at the Western Montgomery Career & Technology Center!\n\n\n\nExplore career opportunities in:\n\n	\n		\n			Protective Services\n			Collision Repair\n			Carpentry\n		\n		\n			Metal Technology\n			Automotive Technology\n			Electrical\n		\n		\n			Diesel Technology\n			Computer Information Systems\n			HVAC\n		\n		\n			Sports Medicine\n			 \n			 \n		\n	\n\n\n\n6 PM - Welcome & Refreshments\n\n6:30 PM - Women in the Workplace\n\n7 - 8:30 PM - Lab Tours & Hands On Activities\n\n\n\nRegister online at www.westerncenter.org.
X-ALT-DESC;FMTTYPE=text/html:Join us for this event\, just for girls! Learn about the exciting non-traditional career training opportunities for girls grades 5-11 at the Western Montgomery Career &amp\; Technology Center!<br />\n<br />\nExplore career opportunities in:\n<table border="1" cellpadding="1" cellspacing="1" style="width:500px\;">\n	<tbody>\n		<tr>\n			<td>Protective Services</td>\n			<td>Collision Repair</td>\n			<td>Carpentry</td>\n		</tr>\n		<tr>\n			<td>Metal Technology</td>\n			<td>Automotive Technology</td>\n			<td>Electrical</td>\n		</tr>\n		<tr>\n			<td>Diesel Technology</td>\n			<td>Computer Information Systems</td>\n			<td>HVAC</td>\n		</tr>\n		<tr>\n			<td>Sports Medicine</td>\n			<td>&nbsp\;</td>\n			<td>&nbsp\;</td>\n		</tr>\n	</tbody>\n</table>\n<br />\n<strong>6 PM - Welcome &amp\; Refreshments<br />\n6:30 PM - Women in the Workplace<br />\n7 - 8:30 PM - Lab Tours &amp\; Hands On Activities</strong><br />\n<br />\nRegister online at <a href="http://www.westerncenter.org">www.westerncenter.org</a>.
LOCATION:Western Montgomery Career & Technology Center 77 Graterford Road Limerick\, PA 19468
UID:e.2183.848814
SEQUENCE:3
DTSTAMP:20260421T061103Z
URL:https://business.tricountyareachamber.com/events/details/wmctc-girls-night-out-848814
END:VEVENT

END:VCALENDAR
