BEGIN:VCALENDAR
VERSION:2.0
PRODID:-//ChamberMaster//Event Calendar 2.0//EN
METHOD:PUBLISH
X-PUBLISHED-TTL:P3D
REFRESH-INTERVAL:P3D
CALSCALE:GREGORIAN
BEGIN:VEVENT
DTSTART:20171129T220000Z
DTEND:20171130T010000Z
X-MICROSOFT-CDO-ALLDAYEVENT:FALSE
SUMMARY:WMCTC Open House
DESCRIPTION:Don't miss this exciting opportunity to learn more about the Western Montgomery Career and Technology Center. With a state of the art facility and exciting programs like Metal Technology\, Dental Occupations\, Sports Medicine and Diesel Technology\, the Western Center has more to offer than ever before. The Western Center operates on a flexible schedule that enables students to spend half the day at their home school and half the day at the Western Center!\n\n\n\nAt this Open House\, you'll be able to:\n\n	\n		\n			\n			\n				Tour the Building\n			\n			\n			\n			\n				Learn about exciting career opportunities\n			\n			\n		\n		\n			\n			\n				Meet instructors & Administrators\n			\n			\n			\n			\n				Talk to current students about the school
X-ALT-DESC;FMTTYPE=text/html:Don&#39\;t miss this exciting opportunity to learn more about the Western Montgomery Career and Technology Center. With a state of the art facility and exciting programs like Metal Technology\, Dental Occupations\, Sports Medicine and Diesel Technology\, the Western Center has more to offer than ever before. The Western Center operates on a flexible schedule that enables students to spend half the day at their home school and half the day at the Western Center!<br />\n<br />\nAt this Open House\, you&#39\;ll be able to:\n<table border="1" cellpadding="1" cellspacing="1" style="width:600px\;">\n	<tbody>\n		<tr>\n			<td>\n			<ul>\n				<li>Tour the Building</li>\n			</ul>\n			</td>\n			<td>\n			<ul>\n				<li>Learn about exciting career opportunities</li>\n			</ul>\n			</td>\n		</tr>\n		<tr>\n			<td>\n			<ul>\n				<li>Meet instructors &amp\; Administrators</li>\n			</ul>\n			</td>\n			<td>\n			<ul>\n				<li>Talk to current students about the school</li>\n			</ul>\n			</td>\n		</tr>\n	</tbody>\n</table>\n
LOCATION:Western Montgomery Career & Technology Center 77 Graterford Road Limerick\, PA 19468
UID:e.2183.848815
SEQUENCE:3
DTSTAMP:20260421T060747Z
URL:https://business.tricountyareachamber.com/events/details/wmctc-open-house-848815
END:VEVENT

END:VCALENDAR
