BEGIN:VCALENDAR
VERSION:2.0
PRODID:-//ChamberMaster//Event Calendar 2.0//EN
METHOD:PUBLISH
X-PUBLISHED-TTL:P3D
REFRESH-INTERVAL:P3D
CALSCALE:GREGORIAN
BEGIN:VEVENT
DTSTART:20210505T150000Z
DTEND:20210505T160000Z
X-MICROSOFT-CDO-ALLDAYEVENT:FALSE
SUMMARY:Workplace Safety and the Requirements for Small Business
DESCRIPTION:Ensuring a safe work environment is the right thing to do and is good for your business. It is an employer's responsibility to protect workers from injury and illness on the job. No one wants a workers' compensation claim. The costs related to accidents\, injuries and lost time can be expensive. Many small business owners do not understand which OSHA regulations may apply to their business. However\, it is very important to know the requirements. Awareness and an effective safety program can help small businesses minimize potential risks.\n\n\n\nDuring this free one hour webinar hosted by SCORE TriCounty\, Dale Rothenberger will discuss what every business should have in place regarding documents\, trainings\, and filings. Dale will cover the basics of a safety program and what you need to know to comply. He will also delve into the latest changes in regulations including those related to COVID19.
X-ALT-DESC;FMTTYPE=text/html:<span style="color: rgb(35\, 35\, 51)\; font-family: Lato\, Helvetica\, Arial\; font-size: 14px\; background-color: rgb(255\, 255\, 255)\;">Ensuring a safe work environment is the right thing to do and is good for your business. It is an employer&rsquo\;s responsibility to protect workers from injury and illness on the job. No one wants a workers&#39\; compensation claim. The costs related to accidents\, injuries and lost time can be expensive. Many small business owners do not understand which OSHA regulations may apply to their business. However\, it is very important to know the requirements. Awareness and an effective safety program can help small businesses minimize potential risks.</span><br style="box-sizing: border-box\; color: rgb(35\, 35\, 51)\; font-family: Lato\, Helvetica\, Arial\; font-size: 14px\; background-color: rgb(255\, 255\, 255)\;" />\n<br style="box-sizing: border-box\; color: rgb(35\, 35\, 51)\; font-family: Lato\, Helvetica\, Arial\; font-size: 14px\; background-color: rgb(255\, 255\, 255)\;" />\n<span style="color: rgb(35\, 35\, 51)\; font-family: Lato\, Helvetica\, Arial\; font-size: 14px\; background-color: rgb(255\, 255\, 255)\;">During this free one hour webinar hosted by SCORE TriCounty\, Dale Rothenberger will discuss what every business should have in place regarding documents\, trainings\, and filings. Dale will cover the basics of a safety program and what you need to know to comply. He will also delve into the latest changes in regulations including those related to COVID19.</span>
LOCATION:Webinar
UID:e.2183.856574
SEQUENCE:3
DTSTAMP:20260425T103727Z
URL:https://business.tricountyareachamber.com/events/details/workplace-safety-and-the-requirements-for-small-business-856574
END:VEVENT

END:VCALENDAR
