BEGIN:VCALENDAR
VERSION:2.0
PRODID:-//ChamberMaster//Event Calendar 2.0//EN
METHOD:PUBLISH
X-PUBLISHED-TTL:P3D
REFRESH-INTERVAL:P3D
CALSCALE:GREGORIAN
BEGIN:VEVENT
DTSTART:20180328T153000Z
DTEND:20180328T170000Z
X-MICROSOFT-CDO-ALLDAYEVENT:FALSE
SUMMARY:Worksite Well-Being Information Luncheon
DESCRIPTION:Are you a company just contemplating the introduction of wellbeing into their workplace\n	Do you already have a program in place and want to share your story or learn new ideas from others\n\nJoin us to share experiences\, ideas and gain insight into the successes and challenges of wellness in the workplace!\n\n\n	A healthy lunch will be provided\n\n \n\nWe will hear success stories\, tips\, and challenges from the following graduates and current participants of our program: \n\nSealstrip Corp\n\nVictory Bank\n\nBoyertown Lions First Responders\n\nSole Proprietors\n\nGHR Insurance
X-ALT-DESC;FMTTYPE=text/html:<ul>\n	<li style="margin-top: 0in\; margin-right: 1in\; margin-bottom: 0.0001pt\;">Are you a company just contemplating the introduction of wellbeing into their workplace</li>\n	<li style="margin-top: 0in\; margin-right: 1in\; margin-bottom: 0.0001pt\;">Do you already have a program in place and want to share your story or learn new ideas from others</li>\n</ul>\nJoin us to share experiences\, ideas and gain insight into the successes and challenges of wellness in the workplace!\n\n<ul>\n	<li style="margin-top: 0in\; margin-right: 1in\; margin-bottom: 0.0001pt\;">A healthy lunch will be provided</li>\n</ul>\n&nbsp\;<br />\n<strong><span style="font-size:12.0pt\;">We will hear success stories\, tips\, and challenges from the following graduates and current participants of our program: </span></strong>\n\n<div style="text-align: center\;"><span style="color:#0070C0\;">Sealstrip Corp</span><br />\n<span style="color:#0070C0\;">Victory Bank</span><br />\n<span style="color:#0070C0\;">Boyertown Lions First Responders</span><br />\n<span style="color:#0070C0\;">Sole Proprietors</span><br />\n<span style="color:#0070C0\;">GHR Insurance </span></div>\n
LOCATION:Chamber Office 152 E. High St.\, Suite 360 Pottstown\, PA 19464
UID:e.2183.850281
SEQUENCE:3
DTSTAMP:20260421T123756Z
URL:https://business.tricountyareachamber.com/events/details/worksite-well-being-information-luncheon-850281
END:VEVENT

END:VCALENDAR
