BEGIN:VCALENDAR
VERSION:2.0
PRODID:-//ChamberMaster//Event Calendar 2.0//EN
METHOD:PUBLISH
X-PUBLISHED-TTL:P3D
REFRESH-INTERVAL:P3D
CALSCALE:GREGORIAN
BEGIN:VEVENT
DTSTART:20160223T163000Z
DTEND:20160223T180000Z
X-MICROSOFT-CDO-ALLDAYEVENT:FALSE
SUMMARY:Worksite Wellness Luncheon
DESCRIPTION:Interested in a no cost opportunity to provide your employees with access to wellness programs and services?  This six month program is available to Chamber Member companies with 50 or fewer employees.  Join us to learn how the worksite wellness initiative team can help change the culture of your worksite into a healthier environment.\n\n\n\nMembers only!\n\n\n\nThis event was previously scheduled for January 21\, 2016.
X-ALT-DESC;FMTTYPE=text/html:<p><span style="font-size:12px\;"><span style="font-family:arial\;">Interested in a no cost opportunity to provide your employees with access to wellness programs and services?&nbsp\; This six month program is available to Chamber Member companies with 50 or fewer employees.&nbsp\; Join us to learn how the worksite wellness initiative team can help change the culture of your worksite into a healthier environment.<br />\n<br />\n<span style="color:#FF0000\;"><strong>Members only!</strong></span><br />\n<br />\nThis event was previously scheduled for January 21\, 2016.</span></span></p>\n
LOCATION:TriCounty Area Chamber of Commerce 152 E. High St.\, Suite 360 Pottstown\, PA 19464 There is limited parking available in the lot at the Security Trust Building at 152 High St. You must have a permit to park in a reserved space or you may be ticketed. Parking is available on High St. for up to 3 hours at no charge\, or in the Freight Station Municipal lot\, across the railroad tracks (enter off Hanover St.) for 10 per hour.
UID:e.2183.845293
SEQUENCE:3
DTSTAMP:20260425T191457Z
URL:https://business.tricountyareachamber.com/events/details/worksite-wellness-luncheon-02-23-2016-845293
END:VEVENT

END:VCALENDAR
