BEGIN:VCALENDAR
VERSION:2.0
PRODID:-//ChamberMaster//Event Calendar 2.0//EN
METHOD:PUBLISH
X-PUBLISHED-TTL:P3D
REFRESH-INTERVAL:P3D
CALSCALE:GREGORIAN
BEGIN:VEVENT
DTSTART:20161118T133000Z
DTEND:20161118T143000Z
X-MICROSOFT-CDO-ALLDAYEVENT:FALSE
SUMMARY:"Worksite Wellness" Meet and Greet
DESCRIPTION:If your company or organization has an interest in incorporating a "worksite wellness" program into your work environment or you are a health and wellness oriented business that can provide services to our members participating in our program\, we invite you to an informal meet and greet to introduce Irene "Bunny" Boyle\, our new Worksite Wellness Initiative Director.
X-ALT-DESC;FMTTYPE=text/html:<span style="font-family:times new roman\,serif\;"><span style="font-size:12.0pt\;">If your company or organization has an interest in incorporating a <strong>&ldquo\;worksite wellness&rdquo\;</strong> program into your work environment or you are a health and wellness oriented business that can provide services to our members participating in our program\, we invite you to an informal meet and greet to introduce <strong>Irene &ldquo\;Bunny&rdquo\; Boyle</strong>\, our new Worksite Wellness Initiative Director.&nbsp\;</span></span>
LOCATION:Chamber Conference Room 152 E. High St.\, Suite 360 Pottstown\, PA 19464
UID:e.2183.847360
SEQUENCE:3
DTSTAMP:20260422T113401Z
URL:https://business.tricountyareachamber.com/events/details/worksite-wellness-meet-and-greet-847360
END:VEVENT

END:VCALENDAR
