BEGIN:VCALENDAR
VERSION:2.0
PRODID:-//ChamberMaster//Event Calendar 2.0//EN
METHOD:PUBLISH
X-PUBLISHED-TTL:P3D
REFRESH-INTERVAL:P3D
CALSCALE:GREGORIAN
BEGIN:VEVENT
DTSTART:20181211T163000Z
DTEND:20181211T180000Z
X-MICROSOFT-CDO-ALLDAYEVENT:FALSE
SUMMARY:WOW- Holiday Networking
DESCRIPTION:It's the holidays already! Come and join us at the Carousel for some fun holiday networking. Get ready to have some fun and meet some new people all while experiencing some holiday festivities. The Carousel will be decorated for the holidays and will be running for our event. So come on down and enjoy some candycane connections!!
X-ALT-DESC;FMTTYPE=text/html:It&#39\;s the holidays already! Come and join us at the Carousel for some fun holiday networking. Get ready to have some fun and meet some new people all while experiencing some holiday festivities.&nbsp\;The Carousel will be decorated for the holidays and will be running for our event. So come on down and enjoy some candycane connections!!
LOCATION:The Carousel at Pottstown 30 West King St. Pottstown PA 19464
UID:e.2183.851592
SEQUENCE:3
DTSTAMP:20260423T114922Z
URL:https://business.tricountyareachamber.com/events/details/wow-holiday-networking-851592
END:VEVENT

END:VCALENDAR
