BEGIN:VCALENDAR
VERSION:2.0
PRODID:-//ChamberMaster//Event Calendar 2.0//EN
METHOD:PUBLISH
X-PUBLISHED-TTL:P3D
REFRESH-INTERVAL:P3D
CALSCALE:GREGORIAN
BEGIN:VEVENT
DTSTART:20160420T153000Z
DTEND:20160420T170000Z
X-MICROSOFT-CDO-ALLDAYEVENT:FALSE
SUMMARY:WOW Luncheon
DESCRIPTION:Janine Quigley\, Warden\, Berks County Jail\, will present "Take Command and Capitalize on the Chaos". She will share her personal journey as a woman in the workforce and the challenges she faces in the jail environment. She will also discuss challenges we face every day in our workplace. \n\n\n\nRegistration required!
X-ALT-DESC;FMTTYPE=text/html:<div style="text-align: justify\;"><strong>Janine Quigley\,</strong> Warden\, Berks County Jail\, will present <strong>&quot\;Take Command and Capitalize on&nbsp\;the Chaos&quot\;</strong>. She will share her personal journey as a woman in the workforce and the challenges she faces in the jail environment. She will also discuss challenges we face every day in our workplace.&nbsp\;</div>\n\n<div style="text-align: justify\;"><br />\n<strong><span style="color: rgb(255\, 0\, 0)\;">Registration required!</span></strong></div>\n
LOCATION:Brookside Country Club Prospect and Adams Sts. Pottstown\, PA 19464
UID:e.2183.845039
SEQUENCE:3
DTSTAMP:20260425T154946Z
URL:https://business.tricountyareachamber.com/events/details/wow-luncheon-04-20-2016-845039
END:VEVENT

END:VCALENDAR
