BEGIN:VCALENDAR
VERSION:2.0
PRODID:-//ChamberMaster//Event Calendar 2.0//EN
METHOD:PUBLISH
X-PUBLISHED-TTL:P3D
REFRESH-INTERVAL:P3D
CALSCALE:GREGORIAN
BEGIN:VEVENT
DTSTART:20160615T153000Z
DTEND:20160615T170000Z
X-MICROSOFT-CDO-ALLDAYEVENT:FALSE
SUMMARY:WOW Luncheon
DESCRIPTION:REGISTRATION CURRENTLY CLOSED\n\n\n\nTake some time to relax and be pampered while enjoying networking and lunch at Salon Evolve. Demonstrations and consultations will be given on hair and skin tips for the upcoming summer months. \n\n\n\nMembers Only\; Registration required!
X-ALT-DESC;FMTTYPE=text/html:<div style="text-align: justify\;"><span style="font-size:12px\;"><span style="font-family:arial\;"><span style="font-size:20px\;"><strong><span style="color:#FF0000\;">REGISTRATION&nbsp\;CURRENTLY CLOSED</span></strong></span><br />\n<br />\nTake some time to relax and be pampered while enjoying networking and lunch at Salon Evolve. Demonstrations and consultations will be given on hair and skin tips for the upcoming summer months.&nbsp\;</span></span></div>\n\n<div style="text-align: justify\;"><br />\n<strong><span style="color:#FF0000\;">Members Only\;&nbsp\;Registration required!</span></strong></div>\n
LOCATION:Salon Evolve 214 W. Ridge Pike Limerick\, PA 19468
UID:e.2183.845040
SEQUENCE:3
DTSTAMP:20260425T124532Z
URL:https://business.tricountyareachamber.com/events/details/wow-luncheon-06-15-2016-845040
END:VEVENT

END:VCALENDAR
