BEGIN:VCALENDAR
VERSION:2.0
PRODID:-//ChamberMaster//Event Calendar 2.0//EN
METHOD:PUBLISH
X-PUBLISHED-TTL:P3D
REFRESH-INTERVAL:P3D
CALSCALE:GREGORIAN
BEGIN:VEVENT
DTSTART:20151014T153000Z
DTEND:20151014T170000Z
X-MICROSOFT-CDO-ALLDAYEVENT:FALSE
SUMMARY:WOW Luncheon
DESCRIPTION:Kimberly Taylor\, Associate Dean of Students and Director of Campus Safety at Ursinus College\, will present "Personal Protection   Back to Basics." Dangerous situations can be anywhere. In this ever-changing world\, we must change the way we recognize\, react\, and respond to potential trouble. Join us for a discussion of some quick and easy things you can do to take care of yourself and your family.\n\n\n\nRegistration required!
X-ALT-DESC;FMTTYPE=text/html:<div style="text-align: justify\;">&nbsp\;</div>\n\n<div><span style="font-size:12px\;"><span style="font-family:arial\;"><strong>Kimberly Taylor</strong>\, Associate Dean of Students and Director of Campus Safety at Ursinus College\, will present &ldquo\;Personal Protection &ndash\; Back to Basics.&rdquo\; Dangerous situations can be anywhere. In this ever-changing world\, we must change the way we <em>recognize</em>\, <em>react</em>\, and <em>respond</em> to potential trouble. Join us for a discussion of some quick and easy things you can do to take care of yourself and your family.</span></span></div>\n\n<div style="text-align: justify\;"><br />\n<strong><span style="color:#FF0000\;">Registration required!</span></strong></div>\n
LOCATION:Spring Ford Country Club 48 Country Club Rd. Royersford\, PA 19468
UID:e.2183.845036
SEQUENCE:3
DTSTAMP:20260426T011957Z
URL:https://business.tricountyareachamber.com/events/details/wow-luncheon-10-14-2015-845036
END:VEVENT

END:VCALENDAR
