BEGIN:VCALENDAR
VERSION:2.0
PRODID:-//ChamberMaster//Event Calendar 2.0//EN
METHOD:PUBLISH
X-PUBLISHED-TTL:P3D
REFRESH-INTERVAL:P3D
CALSCALE:GREGORIAN
BEGIN:VEVENT
DTSTART:20151202T163000Z
DTEND:20151202T180000Z
X-MICROSOFT-CDO-ALLDAYEVENT:FALSE
SUMMARY:WOW Luncheon
DESCRIPTION:Passion to Paycheck: Follow the journey of business professionals Tracy McKay\, Artemis Design\; Christine Elliott\, Whitegate Contracting Co.\, Inc.\, and Stacy Gerhart\, Independent Beauty Consultant with Mary Kay as they share their stories of how they turned their passion into the successful enterprises they have today. \n\n \n\n\n\nRegistration required!
X-ALT-DESC;FMTTYPE=text/html:<div style="text-align: justify\;">&nbsp\;</div>\n\n<div><strong>Passion to </strong><strong>Paycheck:&nbsp\;</strong>Follow the journey of business professionals <strong>Tracy McKay</strong>\, Artemis Design\; <strong>Christine Elliott</strong>\, Whitegate Contracting Co.\, Inc.\, and <strong>Stacy Gerhart</strong>\, Independent Beauty Consultant with Mary Kay as they share their stories of how they turned their passion into the successful enterprises they have today.&nbsp\;<br />\n&nbsp\;</div>\n\n<div style="text-align: justify\;"><br />\n<strong><span style="color:#FF0000\;">Registration required!</span></strong></div>\n
LOCATION:Brookside Country Club 850 N. Adams St. Pottstown\, PA 19464
UID:e.2183.845037
SEQUENCE:3
DTSTAMP:20260425T223141Z
URL:https://business.tricountyareachamber.com/events/details/wow-luncheon-12-02-2015-845037
END:VEVENT

END:VCALENDAR
