BEGIN:VCALENDAR
VERSION:2.0
PRODID:-//ChamberMaster//Event Calendar 2.0//EN
METHOD:PUBLISH
X-PUBLISHED-TTL:P3D
REFRESH-INTERVAL:P3D
CALSCALE:GREGORIAN
BEGIN:VEVENT
DTSTART:20170404T153000Z
DTEND:20170404T170000Z
X-MICROSOFT-CDO-ALLDAYEVENT:FALSE
SUMMARY:WOW Luncheon
DESCRIPTION:"Improving the Grade on Gender Equality"\n\nAndrea J. Funk\, CEO of Cambridge-Lee Industries LLC\, will present on the status of gender equality in America's workplace\, and her personal reflections and recommendations on closing the opportunity gap. \n\n\n\nClick here to learn more about Andrea!\n\n\n\nRegistration required!
X-ALT-DESC;FMTTYPE=text/html:<div style="text-align: center\;"><span style="font-family:times new roman\,serif\;"><span style="font-size:12.0pt\;"><b><span style="font-size:22px\;"><em>&quot\;Improving the Grade on Gender Equality&quot\;</em></span></b></span></span></div>\n\n<div style="text-align: justify\;"><span style="font-family:times new roman\,serif\;"><span style="font-size:12.0pt\;"><b>Andrea J. Funk\,&nbsp\;</b>CEO&nbsp\;of Cambridge-Lee Industries LLC\, will present on the status of gender equality in America&#39\;s workplace\, and her personal reflections and recommendations on closing the opportunity gap.&nbsp\;</span></span><br />\n<br />\n<a href="https://chambermaster.blob.core.windows.net/userfiles/UserFiles/chambers/2183/File/AndreaFunkBio2.pdf">Click here to learn more about Andrea!</a><br />\n<br />\n<strong><span style="color: rgb(255\, 0\, 0)\;">Registration required!</span></strong></div>\n
LOCATION:Brookside Country Club Prospect & Adams Sts. Pottstown\, PA 19464
UID:e.2183.847371
SEQUENCE:3
DTSTAMP:20260420T181930Z
URL:https://business.tricountyareachamber.com/events/details/wow-luncheon-847371
END:VEVENT

END:VCALENDAR
