BEGIN:VCALENDAR
VERSION:2.0
PRODID:-//ChamberMaster//Event Calendar 2.0//EN
METHOD:PUBLISH
X-PUBLISHED-TTL:P3D
REFRESH-INTERVAL:P3D
CALSCALE:GREGORIAN
BEGIN:VEVENT
DTSTART:20171011T153000Z
DTEND:20171011T170000Z
X-MICROSOFT-CDO-ALLDAYEVENT:FALSE
SUMMARY:WOW Luncheon
DESCRIPTION:Featuring guest speaker Montgomery County Commissioner Dr. Valerie Arkoosh - she will share her "Journey from Clinical Medicine to Elected Official."\n\n\n\n\n\nRegistration required!
X-ALT-DESC;FMTTYPE=text/html:<div><span style="font-size:16px\;"><font face="times new roman\, serif">Featuring guest speaker <strong>Montgomery County Commissioner Dr. Valerie Arkoosh</strong>&nbsp\;- she will share her &quot\;<em>Journey from Clinical Medicine to Elected Official</em>.&quot\;</font></span></div>\n\n<div style="text-align: justify\;"><br />\n<br />\n<strong><span style="color: rgb(255\, 0\, 0)\;">Registration required!</span></strong></div>\n
LOCATION:Brookside Country Club Prospect & Adams Sts. Pottstown\, PA 19464
UID:e.2183.848747
SEQUENCE:3
DTSTAMP:20260421T042525Z
URL:https://business.tricountyareachamber.com/events/details/wow-luncheon-848747
END:VEVENT

END:VCALENDAR
