BEGIN:VCALENDAR
VERSION:2.0
PRODID:-//ChamberMaster//Event Calendar 2.0//EN
METHOD:PUBLISH
X-PUBLISHED-TTL:P3D
REFRESH-INTERVAL:P3D
CALSCALE:GREGORIAN
BEGIN:VEVENT
DTSTART:20171206T163000Z
DTEND:20171206T180000Z
X-MICROSOFT-CDO-ALLDAYEVENT:FALSE
SUMMARY:WOW Luncheon
DESCRIPTION:G.I.R.L. Power   Grit\, Inspiration\, Rebellion & Leadership for Career Success. Adrean Turner\, Coach Adrean\, Career Fulfillment Expert\, will focus on ways to activate your G.I.R.L. power to propel your career and discover ways to excel with excitement to achieve your full potential. According to prominent researchers and psychologists\, only 15% of success depends on technical knowledge and the other 85% of financial success is dependent on your personality and ability to communicate\, negotiate\, and lead. Therefore\, to secure a promotion\, gain influence with male colleagues and successfully navigate workplace relationships\, it takes GRIT\, INSPIRATION\, REBELLION and LEADERSHIP abilities. \n\n\n\nRegistration required!\n\n\n\nOnline registration closes at 5 PM on Monday\, December 4.
X-ALT-DESC;FMTTYPE=text/html:<div><span style="font-family:times new roman\,serif\;"><span style="font-size:12.0pt\;">G.I.R.L. Power &ndash\; <strong>Grit\, Inspiration\, Rebellion &amp\; Leadership for Career</strong> <strong>Success</strong>.&nbsp\;<strong>Adrean Turner</strong>\, <strong>Coach Adrean</strong>\, Career Fulfillment Expert\, will focus on ways to activate your <strong>G.I.R.L.</strong> power to propel your career and discover ways to excel with excitement to achieve your full potential.&nbsp\;According to prominent researchers and psychologists\, only 15% of success depends on technical knowledge and the other 85% of financial success is dependent on your personality and ability to communicate\, negotiate\, and lead.&nbsp\;Therefore\, to secure a promotion\, gain influence with male colleagues and successfully navigate workplace relationships\, it takes <strong>GRIT\, INSPIRATION\, REBELLION</strong> and <strong>LEADERSHIP</strong>&nbsp\;abilities.&nbsp\;</span></span></div>\n\n<div style="text-align: justify\;"><br />\n<strong><span style="color: rgb(255\, 0\, 0)\;">Registration required!<br />\n<br />\nOnline registration closes at 5 PM on Monday\, December 4.&nbsp\;</span></strong></div>\n
LOCATION:SunnyBrook Ballroom (Melody Room) 50 Sunnybrook Road Pottstown\, PA 19464
UID:e.2183.848748
SEQUENCE:3
DTSTAMP:20260421T080012Z
URL:https://business.tricountyareachamber.com/events/details/wow-luncheon-848748
END:VEVENT

END:VCALENDAR
