BEGIN:VCALENDAR
VERSION:2.0
PRODID:-//ChamberMaster//Event Calendar 2.0//EN
METHOD:PUBLISH
X-PUBLISHED-TTL:P3D
REFRESH-INTERVAL:P3D
CALSCALE:GREGORIAN
BEGIN:VEVENT
DTSTART:20180206T163000Z
DTEND:20180206T180000Z
X-MICROSOFT-CDO-ALLDAYEVENT:FALSE
SUMMARY:WOW Luncheon
DESCRIPTION:Communication is key in great Customer Service.  Terese Brittingham\, Keller Williams Realty Group\, will focus on Customer Service in the Business industry and how knowing and respecting your clients' needs and expectations can lead to continued future business through referrals and a smooth transaction.  Megan McKee\, Coventry Corners\, will share how to Sparkle in today's not so sparkly Retail environment and make your guests feel special by providing an experience that is key to superior Customer Service.\n\n\n\nRegistration required!
X-ALT-DESC;FMTTYPE=text/html:<div><span style="font-family: times new roman\,serif\;"><span style="font-size: 12pt\;">Communication is key in great <strong>Customer Service. &nbsp\;Terese Brittingham\, </strong>Keller Williams Realty Group\, will focus on <strong>Customer</strong> <strong>Service</strong> in the Business industry and how knowing and respecting your clients&rsquo\; needs and expectations can lead to continued future business through referrals and a smooth transaction.&nbsp\; <strong>Megan</strong> <strong>McKee</strong>\, Coventry Corners\, will share how to Sparkle in today&rsquo\;s not so sparkly Retail environment and make your guests feel special by providing an experience that is key to superior <strong>Customer Service</strong>.</span></span></div>\n\n<div style="text-align: justify\;"><br />\n<strong><span style="color: rgb(255\, 0\, 0)\;">Registration required!</span></strong></div>\n
LOCATION:Brookside Country Club Prospect & Adams Sts. Pottstown\, PA 19464
UID:e.2183.848769
SEQUENCE:3
DTSTAMP:20260421T110153Z
URL:https://business.tricountyareachamber.com/events/details/wow-luncheon-848769
END:VEVENT

END:VCALENDAR
