BEGIN:VCALENDAR
VERSION:2.0
PRODID:-//ChamberMaster//Event Calendar 2.0//EN
METHOD:PUBLISH
X-PUBLISHED-TTL:P3D
REFRESH-INTERVAL:P3D
CALSCALE:GREGORIAN
BEGIN:VEVENT
DTSTART:20160210T160000Z
DTEND:20160210T183000Z
X-MICROSOFT-CDO-ALLDAYEVENT:FALSE
SUMMARY:WOW - Workshop on Wednesday
DESCRIPTION:Usually WOW stands for Women of the Workforce\, but the Chamber has changed the name for this particular event because everyone can benefit from the presentation. "Smart Networking Secrets Revealed" will be hosted by Kimberle Levin\, CEO/KLC Inc. Kimberle was a panelist at the Tri-County Area Women's Roundtable in 2014. This Networking event will include some fun-filled and interactive workshop activities.\n\n\n\nRegistration required!
X-ALT-DESC;FMTTYPE=text/html:<p><span style="font-family: arial\; font-size: 12px\; line-height: 19.2px\;">Usually WOW stands for Women of the Workforce\, but the Chamber has changed the name for this particular event because everyone can benefit from the presentation.&nbsp\;</span><span style="font-size:12px\;"><span style="font-family:arial\;"><strong>&ldquo\;Smart Networking&hellip\;Secrets Revealed&rdquo\;</strong> will be hosted by <strong>Kimberle Levin</strong>\, CEO/KLC Inc.&nbsp\;Kimberle was a panelist at the Tri-County Area Women&rsquo\;s Roundtable in 2014.&nbsp\;This Networking event will include some fun-filled and interactive workshop activities.</span></span></p>\n\n<div style="text-align: justify\;"><br />\n<strong><span style="color:#FF0000\;">Registration required!</span></strong></div>\n
LOCATION:Gianni's Catering and Events 1445 E. Schuylkill Rd. Pottstown\, PA 19465
UID:e.2183.845038
SEQUENCE:3
DTSTAMP:20260425T191518Z
URL:https://business.tricountyareachamber.com/events/details/wow-workshop-on-wednesday-02-10-2016-845038
END:VEVENT

END:VCALENDAR
