BEGIN:VCALENDAR
VERSION:2.0
PRODID:-//ChamberMaster//Event Calendar 2.0//EN
METHOD:PUBLISH
X-PUBLISHED-TTL:P3D
REFRESH-INTERVAL:P3D
CALSCALE:GREGORIAN
BEGIN:VEVENT
DTSTART:20170222T000000Z
DTEND:20170222T030000Z
X-MICROSOFT-CDO-ALLDAYEVENT:FALSE
SUMMARY:Yeast and Grapes\, Where it all Begins
DESCRIPTION:Most winemakers give virtually no thought to the pairing of yeast\, or to the choice of grapes or juice. Nothing will affect the final flavor of wine more than the yeast that you choose. Creating good wine is far more than simply converting sugar to alcohol\, it is an art that coaxes the best out of what you begin with\, bringing forth aromatics and flavor to be fully appreciated and savored. In this course you'll the fundamentals of yeast and grape pairing to bring out the best qualities of both.\n \n\nVisit mc3.edu/homeartisans for more information or call 610.718.1944 (select option #2\, then #4 to register now!)
X-ALT-DESC;FMTTYPE=text/html:<span style="color: rgb(101\, 101\, 101)\; font-family: Arial\, Helvetica\, sans-serif\; font-size: 14px\; background-color: rgb(255\, 255\, 255)\;">Most winemakers give virtually no thought to the pairing of yeast\, or to the choice of grapes or juice. Nothing will affect the final flavor of wine more than the yeast that you choose. Creating good wine is far more than simply converting sugar to alcohol\, it is an art that coaxes the best out of what you begin with\, bringing forth aromatics and flavor to be fully appreciated and savored. In this course you&#39\;ll the fundamentals of yeast and grape pairing to bring out the best qualities of both.</span>\n<div>&nbsp\;</div>\n\n<div><span style="color: rgb(101\, 101\, 101)\; font-family: Arial\, Helvetica\, sans-serif\; font-size: 14px\; background-color: rgb(255\, 255\, 255)\;">Visit <a href="http://www.mc3.edu/component/content/article/96-campus-life/9823-home-artisans">mc3.edu/homeartisans</a> for more information or call 610.718.1944 (select option #2\, then #4 to register now!)</span></div>\n
LOCATION:Weak Knee 1277 North Charlotte Street Pottstown\, PA 19464
UID:e.2183.847402
SEQUENCE:3
DTSTAMP:20260420T164212Z
URL:https://business.tricountyareachamber.com/events/details/yeast-and-grapes-where-it-all-begins-847402
END:VEVENT

END:VCALENDAR
