BEGIN:VCALENDAR
VERSION:2.0
PRODID:-//ChamberMaster//Event Calendar 2.0//EN
METHOD:PUBLISH
X-PUBLISHED-TTL:P3D
REFRESH-INTERVAL:P3D
CALSCALE:GREGORIAN
BEGIN:VEVENT
DTSTART:20171104T130000Z
DTEND:20171104T150000Z
X-MICROSOFT-CDO-ALLDAYEVENT:FALSE
SUMMARY:Young Birders Walk
DESCRIPTION:Birding is a great activity for nature-lovers of all ages! Staff from Green Valleys Watershed Association and naturalists from John James Audubon Center at Mill Grove & Valley Forge Audubon Society will introduce children to birding\, including how to use binoculars and field guides to spot and identify birds. Then we will walk through the fields and around the ponds of Welkinweir to test our new skills.\n\n\n\nWe will meet at Welkinweir's visitor parking lot off of Prizer Road. Please dress for the weather and for a hike on naturally surfaced paths that are steep in some places. Bring binoculars and field guides if you have them. Binoculars and field guides will be available to borrow. Ages 8-18.
X-ALT-DESC;FMTTYPE=text/html:<span style="color: rgb(75\, 79\, 86)\; font-family: Helvetica\, Arial\, sans-serif\; font-size: 14px\; background-color: rgb(255\, 255\, 255)\;">Birding is a great activity for nature-lovers of all ages! Staff from&nbsp\;</span>Green Valleys Watershed Association<span style="color: rgb(75\, 79\, 86)\; font-family: Helvetica\, Arial\, sans-serif\; font-size: 14px\; background-color: rgb(255\, 255\, 255)\;">&nbsp\;and naturalists from&nbsp\;</span>John James Audubon Center at Mill Grove &amp\; Valley Forge Audubon Society<span style="color: rgb(75\, 79\, 86)\; font-family: Helvetica\, Arial\, sans-serif\; font-size: 14px\; background-color: rgb(255\, 255\, 255)\;">&nbsp\;will introduce children to birding\, including how to use binoculars and field guides to spot and identify birds. Then we will walk through the fields and around the ponds of Welkinweir to test our new skills.</span><br style="color: rgb(75\, 79\, 86)\; font-family: Helvetica\, Arial\, sans-serif\; font-size: 14px\; background-color: rgb(255\, 255\, 255)\;" />\n<br style="color: rgb(75\, 79\, 86)\; font-family: Helvetica\, Arial\, sans-serif\; font-size: 14px\; background-color: rgb(255\, 255\, 255)\;" />\n<span style="color: rgb(75\, 79\, 86)\; font-family: Helvetica\, Arial\, sans-serif\; font-size: 14px\; background-color: rgb(255\, 255\, 255)\;">We will meet at Welkinweir&rsquo\;s visitor parking lot off of Prizer Road. Please dress for the weather and for a hike on naturally surfaced paths that are steep in some places. Bring binoculars and field guides if you have them. Binoculars and field guides will be available to borrow. Ages 8-18.</span>
LOCATION:Welkinweir 1368 Prizer Road Pottstown\, PA 19464
UID:e.2183.848842
SEQUENCE:3
DTSTAMP:20260421T060902Z
URL:https://business.tricountyareachamber.com/events/details/young-birders-walk-848842
END:VEVENT

END:VCALENDAR
