BEGIN:VCALENDAR
VERSION:2.0
PRODID:-//ChamberMaster//Event Calendar 2.0//EN
METHOD:PUBLISH
X-PUBLISHED-TTL:P3D
REFRESH-INTERVAL:P3D
CALSCALE:GREGORIAN
BEGIN:VEVENT
DTSTART:20260605T200000Z
DTEND:20260605T220000Z
X-MICROSOFT-CDO-ALLDAYEVENT:FALSE
SUMMARY:Young Professionals: Game Night
DESCRIPTION:Young Professionals: Game Night   \n\n \n\nTake a break from the workday and join us for a fun\, relaxed evening of games and networking! The TriCounty Area Chamber's Young Professionals group is hosting Game Night on Friday\, June 5th from 4:00 6:00 PM\, and you're invited to connect\, unwind\, and have a little friendly competition.\n\n \n\nThis event is free to attend thanks to our partners at Valhallan Esports Training (Royersford). At Valhallan\, video games are more than just entertainment   they're a powerful tool for personal growth and community building. Their mission is to help players develop teamwork\, confidence\, and leadership skills while building lasting friendships through esports and gaming.\n\n \n\nFor this special Young Professionals event\, we're bringing the fun with:\n\n\n	Board games for classic competition\n	Nintendo Switch and Wii gaming\n	Computer gaming stations\n	Cornhole!\n	Plenty of opportunities to meet and connect with fellow young professionals in a casual\, social setting\n\n	 \n\n\nWhether you're a seasoned gamer\, a casual player\, or just looking for a unique way to meet new people\, this is your chance to enjoy one big game night with the local professional community.\n\n \n\n  Location: TriCounty Area Chamber of Commerce Office\n\nPhiladelphia Premium Outlets\n\n18 W Lightcap Rd.\, Suite 613\, Pottstown\, PA 19464\n\n \n\n  Cost: Free to attend\n\n \n\nPlease register in advance so we know to expect you. Grab a friend\, bring your competitive spirit\, and get ready for an evening of games\, laughs\, and new connections!
X-ALT-DESC;FMTTYPE=text/html:<p data-end="40" data-start="0"><span style="font-size:16px\;"><strong data-end="40" data-start="0">Young Professionals: Game Night &#127918\;&#129513\;</strong></span><br />\n&nbsp\;</p>\n\n<p data-end="338" data-start="42"><span style="font-size:16px\;">Take a break from the workday and join us for a fun\, relaxed evening of games and networking! The TriCounty Area Chamber&rsquo\;s Young Professionals group is hosting <strong data-end="216" data-start="202">Game Night</strong> on <strong data-end="258" data-start="220">Friday\, June 5th from 4:00&ndash\;6:00 PM</strong>\, and you&rsquo\;re invited to connect\, unwind\, and have a little friendly competition.</span><br />\n&nbsp\;</p>\n\n<p data-end="727" data-start="340"><span style="font-size:16px\;">This event is <strong data-end="449" data-start="354">free to attend thanks to our partners at <span class="hover:entity-accent entity-underline inline cursor-pointer align-baseline"><span class="whitespace-normal">Valhallan Esports Training</span></span> (Royersford)</strong>. At Valhallan\, video games are more than just entertainment &mdash\; they&rsquo\;re a powerful tool for personal growth and community building. Their mission is to help players develop teamwork\, confidence\, and leadership skills while building lasting friendships through esports and gaming.</span><br />\n&nbsp\;</p>\n\n<p data-end="803" data-start="729"><span style="font-size:16px\;">For this special Young Professionals event\, we&rsquo\;re bringing the fun with:</span></p>\n\n<ul>\n	<li data-end="847" data-start="806"><span style="font-size:16px\;"><strong data-end="821" data-start="806">Board games</strong> for classic competition</span></li>\n	<li data-end="886" data-start="850"><span style="font-size:16px\;"><strong data-end="877" data-start="850">Nintendo Switch and Wii</strong> gaming</span></li>\n	<li data-end="919" data-start="889"><span style="font-size:16px\;"><strong data-end="917" data-start="889">Computer gaming stations</strong></span></li>\n	<li data-end="919" data-start="889"><span style="font-size:16px\;"><strong data-end="917" data-start="889">Cornhole!</strong></span></li>\n	<li data-end="1025" data-start="922"><span style="font-size:16px\;">Plenty of opportunities to meet and connect with fellow young professionals in a casual\, social setting</span><br />\n	&nbsp\;</li>\n</ul>\n\n<p data-end="1220" data-start="1027"><span style="font-size:16px\;">Whether you&#39\;re a seasoned gamer\, a casual player\, or just looking for a unique way to meet new people\, this is your chance to enjoy <strong data-end="1181" data-start="1159">one big game night</strong> with the local professional community.</span><br />\n&nbsp\;</p>\n\n<p data-end="1366" data-start="1222"><span style="font-size:16px\;">&#128205\; <strong data-end="1238" data-start="1225">Location:</strong> TriCounty Area Chamber of Commerce Office<br data-end="1283" data-start="1280" />\nPhiladelphia Premium Outlets<br data-end="1314" data-start="1311" />\n18 W Lightcap Rd.\, Suite 613\, Pottstown\, PA 19464</span><br />\n&nbsp\;</p>\n\n<p data-end="1397" data-start="1368"><span style="font-size:16px\;">&#127903\; <strong data-end="1380" data-start="1371">Cost:</strong> Free to attend</span><br />\n&nbsp\;</p>\n\n<p data-end="1572" data-is-last-node="" data-is-only-node="" data-start="1399"><span style="font-size:16px\;">Please <strong data-end="1454" data-start="1406">register in advance so we know to expect you</strong>. Grab a friend\, bring your competitive spirit\, and get ready for an evening of games\, laughs\, and new connections! &#127922\;</span></p>\n
LOCATION:TriCounty Area Chamber of Commerce Office Philadelphia Premium Outlets 18 W Lightcap Rd.\, Suite 613\, Pottstown\, PA 19464
UID:e.2183.864601
SEQUENCE:3
DTSTAMP:20260421T112456Z
URL:https://business.tricountyareachamber.com/events/details/young-professionals-game-night-864601
END:VEVENT

END:VCALENDAR
