BEGIN:VCALENDAR
VERSION:2.0
PRODID:-//ChamberMaster//Event Calendar 2.0//EN
METHOD:PUBLISH
X-PUBLISHED-TTL:P3D
REFRESH-INTERVAL:P3D
CALSCALE:GREGORIAN
BEGIN:VEVENT
DTSTART:20241010T213000Z
DTEND:20241010T233000Z
X-MICROSOFT-CDO-ALLDAYEVENT:FALSE
SUMMARY:Young Professionals: Meetup & Trivia
DESCRIPTION:This event is for young professionals ages 21 - 40.\n\n\n\nTCACC Membership is not required for young professional events.\n\n \nJoin us at Sly Fox Brewing for a relaxed evening of trivia and networking! This casual outing is the perfect chance for young professionals to enjoy food and refreshments\, test your knowledge\, and connect with like-minded individuals. Whether you're a trivia buff or just looking for a fun night out\, it's a great way to mingle and make new friends. Don't miss it!\n\n\n\nTrivia not your thing? Don't worry - there are plenty of games outside\, or just come and hang out with us!
X-ALT-DESC;FMTTYPE=text/html:<div style="box-sizing: border-box\; color: rgb(0\, 0\, 0)\; font-family: Arial\, Helvetica\, sans-serif\; font-size: 12px\; text-align: center\;"><span style="font-size:14px\;"><span style="box-sizing: border-box\; font-weight: bolder\;"><em style="box-sizing: border-box\;"><span style="box-sizing: border-box\; font-family: arial\;"><span style="box-sizing: border-box\;">This event is for young professionals ages 21 - 40.</span></span></em></span></span></div>\n\n<div style="outline: 0px\; box-sizing: border-box\; color: rgb(0\, 0\, 0)\; font-family: Arial\, Helvetica\, sans-serif\; font-size: 12px\;"><br style="box-sizing: border-box\;" />\n<span style="font-size:14px\;"><span style="box-sizing: border-box\;">TCACC Membership is not required for young professional events.</span></span><br />\n&nbsp\;</div>\n<span style="font-size:16px\;">Join us at Sly Fox Brewing for a relaxed evening of trivia and networking! This casual outing is the perfect chance for young professionals to enjoy food and refreshments\, test your knowledge\, and connect with like-minded individuals. Whether you&rsquo\;re a trivia buff or just looking for a fun night out\, it&rsquo\;s a great way to mingle and make new friends. Don&rsquo\;t miss it!<br />\n<br />\nTrivia not your thing? Don&#39\;t worry - there are plenty of games outside\, or just come and hang out with us!</span>
LOCATION:Sly Fox Brewing Company 331 Circle of Progress Dr. Pottstown\, PA 19464
UID:e.2183.861133
SEQUENCE:3
DTSTAMP:20260421T125932Z
URL:https://business.tricountyareachamber.com/events/details/young-professionals-meetup-trivia-861133
END:VEVENT

END:VCALENDAR
