BEGIN:VCALENDAR
VERSION:2.0
PRODID:-//ChamberMaster//Event Calendar 2.0//EN
METHOD:PUBLISH
X-PUBLISHED-TTL:P3D
REFRESH-INTERVAL:P3D
CALSCALE:GREGORIAN
BEGIN:VEVENT
DTSTART:20260423T210000Z
DTEND:20260424T000000Z
X-MICROSOFT-CDO-ALLDAYEVENT:FALSE
SUMMARY:Young Professionals: Mega Mixer
DESCRIPTION:Four Chambers. One Room. Endless Connections.\n\nThe TriCounty Area Chamber Young Professionals are proud to partner with the Upper Perkiomen Valley\, Greater Reading\, and Greater Lehigh Valley Chambers to host a regional Mega Mixer at Bear Creek Mountain Resort in The Grille - 101 Doe Mountain Ln\, Macungie\, PA 18062. \n\nJoin us for a high-energy evening designed to connect the next generation of business leaders from across multiple counties. This dynamic event brings together ambitious professionals for one powerful night of collaboration\, opportunity\, and community building.\n\nThe evening will feature:\n\n\n	Networking game to sharpen your connection strategy\n	Delicious food\n	Exciting gift raffle\n	Cash bar\n	And countless opportunities to expand your regional footprint\n\n\n\n\nStep outside your usual circle\, build meaningful relationships\, and grow your influence across the region.\n\n \n\nWe can't wait to see you at Bear Creek for a night of connection and momentum!
X-ALT-DESC;FMTTYPE=text/html:<p data-end="49" data-start="0"><strong data-end="49" data-start="0">Four Chambers. One Room. Endless Connections.</strong></p>\n\n<p data-end="289" data-start="51">The <strong data-end="101" data-start="55">TriCounty Area Chamber Young Professionals</strong> are proud to partner with the Upper Perkiomen Valley\, Greater Reading\, and Greater Lehigh Valley Chambers to host a regional <strong data-end="241" data-start="227">Mega Mixer</strong> at <strong data-end="288" data-start="245">Bear Creek Mountain Resort in The Grille -&nbsp\;</strong>101 Doe Mountain Ln\, Macungie\, PA 18062.&nbsp\;</p>\n\n<p data-end="552" data-start="291">Join us for a high-energy evening designed to connect the next generation of business leaders from across multiple counties. This dynamic event brings together ambitious professionals for one powerful night of collaboration\, opportunity\, and community building.</p>\n\n<p data-end="579" data-start="554">The evening will feature:</p>\n\n<ul>\n	<li data-end="651" data-start="582"><strong data-end="613" data-start="582">Networking game</strong> to sharpen your connection strategy</li>\n	<li data-end="674" data-start="654">Delicious <strong data-end="672" data-start="664">food</strong></li>\n	<li data-end="703" data-start="677">Exciting <strong data-end="701" data-start="686">gift raffle</strong></li>\n	<li data-end="720" data-start="706"><strong data-end="718" data-start="706">Cash bar</strong></li>\n	<li data-end="786" data-start="723">And countless opportunities to expand your regional footprint</li>\n</ul>\n\n<p data-end="896" data-start="788"><br />\nStep outside your usual circle\, build meaningful relationships\, and grow your influence across the region.<br />\n&nbsp\;</p>\n\n<p data-end="976" data-is-last-node="" data-is-only-node="" data-start="898">We can&rsquo\;t wait to see you at Bear Creek for a night of connection and momentum!</p>\n
LOCATION:Bear Creek Mountain Resort in The Grille - 101 Doe Mountain Ln\, Macungie\, PA 18062
UID:e.2183.864597
SEQUENCE:3
DTSTAMP:20260422T153406Z
URL:https://business.tricountyareachamber.com/events/details/young-professionals-mega-mixer-864597
END:VEVENT

END:VCALENDAR
