BEGIN:VCALENDAR
VERSION:2.0
PRODID:-//ChamberMaster//Event Calendar 2.0//EN
METHOD:PUBLISH
X-PUBLISHED-TTL:P3D
REFRESH-INTERVAL:P3D
CALSCALE:GREGORIAN
BEGIN:VEVENT
DTSTART:20250714T153000Z
DTEND:20250714T173000Z
X-MICROSOFT-CDO-ALLDAYEVENT:FALSE
SUMMARY:Young Professionals: Monday Impact Crew - CANCELED
DESCRIPTION:THIS EVENT HAS BEEN CANCELED\n\n\n\n\n\nThis event is for young professionals ages 21 - 40.\n\n\n\nTCACC Membership is not required for young professional events.\n\n\n\nJoin fellow Young Professionals for volunteer service at the Pottstown Cluster! We will mainly be sorting and pre-bagging for the pantry. \n\n\n\nPlease utilize street parking on Franklin or King Street for this event.\n\n\n\n*Registration will close a week ahead of time to provide appropriate numbers to the Cluster.
X-ALT-DESC;FMTTYPE=text/html:<div style="box-sizing: border-box\; color: rgb(0\, 0\, 0)\; font-family: Arial\, Helvetica\, sans-serif\; font-size: 12px\; text-align: center\;"><span style="box-sizing: border-box\; font-weight: bolder\;"><em style="box-sizing: border-box\;"><span style="box-sizing: border-box\;"><span style="box-sizing: border-box\; font-size: 18px\;"><span style="color:#FF0000\;">THIS EVENT HAS BEEN CANCELED</span><br />\n<br />\n<br />\nThis event is for young professionals ages 21 - 40.</span></span></em></span></div>\n\n<div style="outline: 0px\; box-sizing: border-box\; color: rgb(0\, 0\, 0)\; font-family: Arial\, Helvetica\, sans-serif\; font-size: 12px\;"><br style="box-sizing: border-box\;" />\n<span style="box-sizing: border-box\; font-size: 16px\;">TCACC Membership is not required for young professional events.<br />\n<br />\nJoin fellow Young Professionals for volunteer service at the Pottstown Cluster! We will mainly be sorting and pre-bagging for the pantry.&nbsp\;<br />\n<br />\nPlease utilize street parking on Franklin or King Street for this event.<br />\n<br />\n<em>*Registration will close a week ahead of time to provide appropriate numbers to the Cluster.</em></span></div>\n
LOCATION:Pottstown Cluster of Religious Communities 57 N Franklin St. Pottstown\, PA 19464 *Please use Street Parking*
UID:e.2183.861552
SEQUENCE:3
DTSTAMP:20260419T130221Z
URL:https://business.tricountyareachamber.com/events/details/young-professionals-monday-impact-crew-canceled-861552
END:VEVENT

END:VCALENDAR
