BEGIN:VCALENDAR
VERSION:2.0
PRODID:-//ChamberMaster//Event Calendar 2.0//EN
METHOD:PUBLISH
X-PUBLISHED-TTL:P3D
REFRESH-INTERVAL:P3D
CALSCALE:GREGORIAN
BEGIN:VEVENT
DTSTART:20260413T200000Z
DTEND:20260413T220000Z
X-MICROSOFT-CDO-ALLDAYEVENT:FALSE
SUMMARY:Young Professionals: Schuylkill River Trailhead Cleanup
DESCRIPTION:The TriCounty Young Professionals are completing some service hours at the Schuylkill River Greenways Trail Cleanup at Grosstown Road Trailhead:\n\n \n\n\n	Every volunteer will need to register\n	No one may work with open toed shoes.\n	Please dress for the weather. (hat\, sun glasses\, raincoat\, etc.) \n	It is recommended to wear long sleeves and pants to reduce the risk of poison ivy\, bee stings\, thorns\, etc.\n	Every volunteer should supply their own water. No food will be provided. \n	Tools will be provided by SRGNHA but volunteers may bring their own equipment. If a volunteer requires special equipment\, it is at their own discretion to bring said equipment. \n\n\n\nIf you are a young professional that is interested in volunteering - please register at this link or contact Hailey at hailey@tricountyareachamber.com to receive more information.
X-ALT-DESC;FMTTYPE=text/html:<div style="box-sizing: border-box\; color: rgb(0\, 0\, 0)\; font-family: Arial\, Helvetica\, sans-serif\; font-size: 12px\;"><span style="font-size:16px\;"><span style="color: rgb(51\, 51\, 51)\; font-family: sans-serif\, Arial\, Verdana\, " trebuchet="">The TriCounty Young Professionals are completing some service hours at the&nbsp\;Schuylkill River Greenways Trail Cleanup at Grosstown Road Trailhead:</span></span><br />\n&nbsp\;</div>\n\n<ul>\n	<li><span style="font-size:16px\;">Every volunteer will need to register</span></li>\n	<li><span style="font-size:16px\;">No one may work with open toed shoes.</span></li>\n	<li><span style="font-size:16px\;"><span style="white-space: pre\;">Please</span> dress for the weather. (hat\, sun glasses\, raincoat\,&nbsp\;etc.)&nbsp\;</span></li>\n	<li><span style="font-size:16px\;">It is recommended to wear long sleeves and pants to reduce the risk of poison ivy\, bee stings\, thorns\, etc.</span></li>\n	<li><span style="font-size:16px\;">Every volunteer should supply their own water. No food will be provided.&nbsp\;</span></li>\n	<li><span style="font-size:16px\;">Tools will be provided by SRGNHA but volunteers may bring their own equipment. If a volunteer requires special equipment\, it is at their own discretion to bring said equipment.&nbsp\;</span></li>\n</ul>\n<br />\n<span style="font-size:16px\;"><strong>If you are a young professional that is interested in volunteering - <a href="https://dash.pointapp.org/events/598045?token=34c4f944-6277-4408-b04b-c6be786483c9">please register at this link</a> or contact Hailey at <a href="mailto:hailey@tricountyareachamber.com">hailey@tricountyareachamber.com</a>&nbsp\;to receive more information.&nbsp\;</strong></span>
LOCATION:Schuylkill River Greenways - Grosstown Road Trailhead 1 Grosstown Rd\, Pottstown\, PA 19464
UID:e.2183.864598
SEQUENCE:3
DTSTAMP:20260422T153538Z
URL:https://business.tricountyareachamber.com/events/details/young-professionals-schuylkill-river-trailhead-cleanup-864598
END:VEVENT

END:VCALENDAR
