BEGIN:VCALENDAR
VERSION:2.0
PRODID:-//ChamberMaster//Event Calendar 2.0//EN
METHOD:PUBLISH
X-PUBLISHED-TTL:P3D
REFRESH-INTERVAL:P3D
CALSCALE:GREGORIAN
BEGIN:VEVENT
DTSTART:20250613T203000Z
DTEND:20250614T010000Z
X-MICROSOFT-CDO-ALLDAYEVENT:FALSE
SUMMARY:Young Professionals: Tour and Game at Reading Fightin' Phils
DESCRIPTION:Get ready for an exciting night out with the Young Professionals at the Reading Fightin' Phils Chamber Night on June 13th!\n\n\n\nWe're kicking things off at 4:30 PM with a fun tour of the stadium\, then hanging out on the deck with high top tables\, concessions\, and a bar to keep the good times rolling and to watch the game.\n\n\n\nPlus\, if you're looking to catch a seat\, general admission is just steps away! \n\n\n\n\n\nWhen registering\, please register and pay for the adults and in the notes put the number of children who will be attending!\n\n\n\n \n\nDetails/why attend:\n\n\n	Family friendly (Children 12 and under get in free!)\n	Perfect for casual networking\n	Watch some good baseball and enjoy time outside\n	Give back to a great organization ($2 of your $10 ticket goes to support Baseballtown Charities Dream League\, an organization that allows those with physical and intellectual challenges the same chance to enjoy the game of baseball like so many able-bodied players do.)\n	Exclusive tour of the stadium\n	Special discount (Your $10 ticket includes a special 10% off your entire order at the Alarm Tech Team Store (valid only on TCCC Night).
X-ALT-DESC;FMTTYPE=text/html:<div><span style="font-size:14px\;">Get ready for an exciting night out with the Young Professionals at the Reading Fightin&#39\; Phils&nbsp\;Chamber Night on June 13th!<br />\n<br />\nWe&rsquo\;re kicking things off at 4:30 PM with a fun tour of the stadium\, then hanging out on the deck with high top tables\, concessions\, and a bar to keep the good times rolling and to watch the game.<br />\n<br />\nPlus\, if you&#39\;re looking to catch a seat\, general admission is just steps away! </span><br />\n<br />\n<br />\n<strong><span style="font-size:14px\;">When registering\, please register and pay for the adults and in the notes put the number of children who will be attending!</span></strong></div>\n\n<div style="text-align: center\;"><br />\n&nbsp\;</div>\n\n<div><span style="font-size:16px\;"><strong>Details/why attend:</strong></span></div>\n\n<ul>\n	<li><span style="font-size:14px\;">Family friendly (</span><em><span style="font-size: 14px\; text-align: center\;">Children</span></em><span style="font-size: 14px\; text-align: center\;"><em>&nbsp\;12 and under get in free!</em>)</span></li>\n	<li><span style="font-size:14px\;">Perfect for casual networking</span></li>\n	<li><span style="font-size:14px\;">Watch some good baseball and enjoy time outside</span></li>\n	<li><span style="font-size:14px\;">Give back to a great organization (</span><span style="font-size: 14px\; text-align: center\;">$2 of your $10 ticket goes to support Baseballtown Charities Dream League\, an organization&nbsp\;that&nbsp\;</span><span style="font-size: 14px\; text-align: center\;">allows those with physical and intellectual challenges the same chance to enjoy the game of baseball like so many able-bodied players do.)</span></li>\n	<li><span style="font-size:14px\;">Exclusive tour of the stadium</span></li>\n	<li><span style="font-size:14px\;">Special discount</span> (<span style="font-size: 14px\; text-align: center\;">Your $10 ticket includes a special 10% off your entire order at the Alarm Tech Team Store (valid only on TCCC Night).</span></li>\n</ul>\n
LOCATION:FirstEnergy Stadium
UID:e.2183.861852
SEQUENCE:3
DTSTAMP:20260421T084326Z
URL:https://business.tricountyareachamber.com/events/details/young-professionals-tour-and-game-at-reading-fightin-phils-861852
END:VEVENT

END:VCALENDAR
